BEGIN:VCALENDAR
VERSION:2.0
PRODID:-//Factor-Inwentash Faculty of Social Work - ECPv6.15.20//NONSGML v1.0//EN
CALSCALE:GREGORIAN
METHOD:PUBLISH
X-WR-CALNAME:Factor-Inwentash Faculty of Social Work
X-ORIGINAL-URL:https://socialwork.utoronto.ca
X-WR-CALDESC:Events for Factor-Inwentash Faculty of Social Work
REFRESH-INTERVAL;VALUE=DURATION:PT1H
X-Robots-Tag:noindex
X-PUBLISHED-TTL:PT1H
BEGIN:VTIMEZONE
TZID:America/Toronto
BEGIN:DAYLIGHT
TZOFFSETFROM:-0500
TZOFFSETTO:-0400
TZNAME:EDT
DTSTART:20200308T070000
END:DAYLIGHT
BEGIN:STANDARD
TZOFFSETFROM:-0400
TZOFFSETTO:-0500
TZNAME:EST
DTSTART:20201101T060000
END:STANDARD
BEGIN:DAYLIGHT
TZOFFSETFROM:-0500
TZOFFSETTO:-0400
TZNAME:EDT
DTSTART:20210314T070000
END:DAYLIGHT
BEGIN:STANDARD
TZOFFSETFROM:-0400
TZOFFSETTO:-0500
TZNAME:EST
DTSTART:20211107T060000
END:STANDARD
BEGIN:DAYLIGHT
TZOFFSETFROM:-0500
TZOFFSETTO:-0400
TZNAME:EDT
DTSTART:20220313T070000
END:DAYLIGHT
BEGIN:STANDARD
TZOFFSETFROM:-0400
TZOFFSETTO:-0500
TZNAME:EST
DTSTART:20221106T060000
END:STANDARD
END:VTIMEZONE
BEGIN:VEVENT
DTSTART;TZID=America/Toronto:20210330T160000
DTEND;TZID=America/Toronto:20210330T170000
DTSTAMP:20260420T023444
CREATED:20210329T153455Z
LAST-MODIFIED:20210329T153728Z
UID:31907-1617120000-1617123600@socialwork.utoronto.ca
SUMMARY:Sex Work and Anti-Asian Racism: Stop “Saving” Them!
DESCRIPTION:Click here to register via zoom\nAs we mourn the lost lives in Atlanta\, we should continue to build solidarity and strength against all forms of oppression. The unfortunate event has not only called for attention toward anti-Asian racism\, but also more in-depth analysis of multiple forms of systemic injustice\, and more importantly\, what we can do as social work students\, researchers and practitioners. We have invited Elene Lam\, Founder and Executive Director of Butterfly (Asian and Migrant Sex Workers Support Network)\, to talk about the intersection of anti-Asian racism and gender-based violence as well as other forms of oppression such as sex work stigma and over-policing. Elene is a registered social worker and currently a PhD candidate at McMaster University. She has been actively engaged in work related to human rights\, violence against women\, migration\, gender\, and sex work justice for over 20 years. She was also the 2019 recipient of the Constance E. Hamilton Award for Women’s Equality to recognize her work in community organizing and activism. We invite you to join us in this conversation and work together to generate our next steps of resistance.\nOrganized by FIFSW PhD students Vivian Leung and Yu Lung
URL:https://socialwork.utoronto.ca/event/sex-work-and-anti-asian-racism-stop-saving-them/
LOCATION:Ontario
CATEGORIES:Alumni,Students
END:VEVENT
END:VCALENDAR