BEGIN:VCALENDAR
VERSION:2.0
PRODID:-//Factor-Inwentash Faculty of Social Work - ECPv6.15.20//NONSGML v1.0//EN
CALSCALE:GREGORIAN
METHOD:PUBLISH
X-ORIGINAL-URL:https://socialwork.utoronto.ca
X-WR-CALDESC:Events for Factor-Inwentash Faculty of Social Work
REFRESH-INTERVAL;VALUE=DURATION:PT1H
X-Robots-Tag:noindex
X-PUBLISHED-TTL:PT1H
BEGIN:VTIMEZONE
TZID:America/Toronto
BEGIN:DAYLIGHT
TZOFFSETFROM:-0500
TZOFFSETTO:-0400
TZNAME:EDT
DTSTART:20200308T070000
END:DAYLIGHT
BEGIN:STANDARD
TZOFFSETFROM:-0400
TZOFFSETTO:-0500
TZNAME:EST
DTSTART:20201101T060000
END:STANDARD
BEGIN:DAYLIGHT
TZOFFSETFROM:-0500
TZOFFSETTO:-0400
TZNAME:EDT
DTSTART:20210314T070000
END:DAYLIGHT
BEGIN:STANDARD
TZOFFSETFROM:-0400
TZOFFSETTO:-0500
TZNAME:EST
DTSTART:20211107T060000
END:STANDARD
BEGIN:DAYLIGHT
TZOFFSETFROM:-0500
TZOFFSETTO:-0400
TZNAME:EDT
DTSTART:20220313T070000
END:DAYLIGHT
BEGIN:STANDARD
TZOFFSETFROM:-0400
TZOFFSETTO:-0500
TZNAME:EST
DTSTART:20221106T060000
END:STANDARD
END:VTIMEZONE
BEGIN:VEVENT
DTSTART;TZID=America/Toronto:20210309T120000
DTEND;TZID=America/Toronto:20210309T131500
DTSTAMP:20260422T175550
CREATED:20201118T174649Z
LAST-MODIFIED:20201118T174700Z
UID:30107-1615291200-1615295700@socialwork.utoronto.ca
SUMMARY:Practicum Advisory Committee (PAC) Meeting
DESCRIPTION:
URL:https://socialwork.utoronto.ca/event/practicum-advisory-committee-pac-meeting-19/
CATEGORIES:Practicum
END:VEVENT
BEGIN:VEVENT
DTSTART;TZID=America/Toronto:20210309T183000
DTEND;TZID=America/Toronto:20210309T200000
DTSTAMP:20260422T175550
CREATED:20210216T222211Z
LAST-MODIFIED:20210301T213845Z
UID:31163-1615314600-1615320000@socialwork.utoronto.ca
SUMMARY:The Successes and Challenges of BLOOMing
DESCRIPTION:> Click here to register via Zoom. \nThere are approximately 16\,000 transgender people living in Toronto and a significant number of them experience homelessness\, are marginally housed\, or couch surf.  Homeless\, trans people are significantly more likely than non-trans people to experience verbal\, physical\, and sexual assault; unemployment; discrimination in the workplace and in schools\, and by families\, police officers\, health care providers\, and community members; challenges in obtaining identity documents; incarceration; and difficult physical and mental health outcomes (including HIV\, depression\, anxiety\, and suicide). \nThis workshop is about the creation and development of a cross sectoral and collaborative Network\, and 2 Trans housing and support programs.  We will share some of the challenges in the implementation of the programs\, and learnings acquired through an evaluative research project. \nFeaturing: \n\n\n\n\n\nKay Roesslein has 29 years working with LOFT Community Services/McEwan Housing & Support Services\, working with those who are HIV positive having Mental Health and/or Substance Use challenges\, experience homelessness and complex care challenges\, and those who identify as Trangender providing stable housing and community support. \nAs Program Director for LOFT’s McEwan Program\, Kay oversees McEwan’s High Support Residence and has expanded the Community Support and Respite Programs\, and facilitated three innovative Programs: Positive Service Coordination (a cross-sectoral partnership of 18 agencies serving homeless PHAs in health/mental health crisis); The Addictions Supportive Housing Program (a LOFT/Fife partnership providing supportive housing to homeless PHA’s with significant Substance Use challenges); and BLOOM\, The Supportive Housing program for those Transitioning Genders. \nKay’s community involvements include: \nCo-Chair\, BLOOM\, Transgender Network 2016-20 \nCo-Chair\, Supportive Housing for People with Substance Use\, (SHPSSU) 2018-19 \nCo-Chair\, Toronto HIV Network (THN) 2018-9 \nSteering Committee Co-Chair\, the Toronto HIV Network (THN) 2010-2020 \nCo-Chair\, Toronto to Zero (T2Z)\, Housing Working Group and Network member (2018-2020)\n\n\n\nJake Farr holds a Masters degree in social work. He is a private mental health counsellor focusing on people who identify in the 2SLGBTQI community\, their friends\, family\, or allies who may need support. His area of specialty is focused on gender and sexual identities for trans individuals. Jake is also an educator and advocate who often speaks to governing bodies\, organizations\, and groups about community\, inclusion and equity.  He has spent many years working to support trans and gender expansive initiatives in Toronto and Durham Region.\n\n\n\n 
URL:https://socialwork.utoronto.ca/event/the-successes-and-challenges-of-blooming/
LOCATION:Zoom Conference Meeting
CATEGORIES:Alumni,Public,Students
END:VEVENT
END:VCALENDAR