BEGIN:VCALENDAR
VERSION:2.0
PRODID:-//Factor-Inwentash Faculty of Social Work - ECPv6.15.20//NONSGML v1.0//EN
CALSCALE:GREGORIAN
METHOD:PUBLISH
X-WR-CALNAME:Factor-Inwentash Faculty of Social Work
X-ORIGINAL-URL:https://socialwork.utoronto.ca
X-WR-CALDESC:Events for Factor-Inwentash Faculty of Social Work
REFRESH-INTERVAL;VALUE=DURATION:PT1H
X-Robots-Tag:noindex
X-PUBLISHED-TTL:PT1H
BEGIN:VTIMEZONE
TZID:America/Toronto
BEGIN:DAYLIGHT
TZOFFSETFROM:-0500
TZOFFSETTO:-0400
TZNAME:EDT
DTSTART:20200308T070000
END:DAYLIGHT
BEGIN:STANDARD
TZOFFSETFROM:-0400
TZOFFSETTO:-0500
TZNAME:EST
DTSTART:20201101T060000
END:STANDARD
BEGIN:DAYLIGHT
TZOFFSETFROM:-0500
TZOFFSETTO:-0400
TZNAME:EDT
DTSTART:20210314T070000
END:DAYLIGHT
BEGIN:STANDARD
TZOFFSETFROM:-0400
TZOFFSETTO:-0500
TZNAME:EST
DTSTART:20211107T060000
END:STANDARD
BEGIN:DAYLIGHT
TZOFFSETFROM:-0500
TZOFFSETTO:-0400
TZNAME:EDT
DTSTART:20220313T070000
END:DAYLIGHT
BEGIN:STANDARD
TZOFFSETFROM:-0400
TZOFFSETTO:-0500
TZNAME:EST
DTSTART:20221106T060000
END:STANDARD
END:VTIMEZONE
BEGIN:VEVENT
DTSTART;TZID=America/Toronto:20210224T183000
DTEND;TZID=America/Toronto:20210224T200000
DTSTAMP:20260420T084636
CREATED:20210217T181715Z
LAST-MODIFIED:20210224T190652Z
UID:31171-1614191400-1614196800@socialwork.utoronto.ca
SUMMARY:A Space for Black Healing: A Wellness Webinar for Self-Identified Black Folks
DESCRIPTION:> Click here to register via Zoom. \n\n\n\n\n\nWhile we are all navigating the overwhelming challenges of COVID-19\, people of African descent are also impacted by anti-Black racism in our society. Black self-care is vital in these unprecedented times. \nThis event will explore:\nBlack-centred self-care\, mental health & wellness strategies\nUnpacking grief about the loss of Black life\nAfrican dance\, music & meditation \nFacilitator:\nMosa McNeilly is an interdisciplinary artist working in Canada for thirty years. She sees her work as part of a canon of Black women artists\, scholars\, and activists concerned with social justice and freedom. In Mosa’s Black wellness work she leads workshops and ceremonies fostering African cultural literacy and Black self-love. A recipient of many awards in art\, performance\, and arts education\, Mosa holds a Master’s degree from York University.\n\n\n\n\nPLEASE NOTE: This event is for self-identified Black folks only and will not be recorded. Registration is limited.
URL:https://socialwork.utoronto.ca/event/a-space-for-black-healing-a-wellness-webinar-for-self-identified-black-folks/
LOCATION:Zoom Conference Meeting
CATEGORIES:Alumni,Public,Students
END:VEVENT
END:VCALENDAR