BEGIN:VCALENDAR
VERSION:2.0
PRODID:-//Factor-Inwentash Faculty of Social Work - ECPv6.15.20//NONSGML v1.0//EN
CALSCALE:GREGORIAN
METHOD:PUBLISH
X-WR-CALNAME:Factor-Inwentash Faculty of Social Work
X-ORIGINAL-URL:https://socialwork.utoronto.ca
X-WR-CALDESC:Events for Factor-Inwentash Faculty of Social Work
REFRESH-INTERVAL;VALUE=DURATION:PT1H
X-Robots-Tag:noindex
X-PUBLISHED-TTL:PT1H
BEGIN:VTIMEZONE
TZID:America/Toronto
BEGIN:DAYLIGHT
TZOFFSETFROM:-0500
TZOFFSETTO:-0400
TZNAME:EDT
DTSTART:20200308T070000
END:DAYLIGHT
BEGIN:STANDARD
TZOFFSETFROM:-0400
TZOFFSETTO:-0500
TZNAME:EST
DTSTART:20201101T060000
END:STANDARD
BEGIN:DAYLIGHT
TZOFFSETFROM:-0500
TZOFFSETTO:-0400
TZNAME:EDT
DTSTART:20210314T070000
END:DAYLIGHT
BEGIN:STANDARD
TZOFFSETFROM:-0400
TZOFFSETTO:-0500
TZNAME:EST
DTSTART:20211107T060000
END:STANDARD
BEGIN:DAYLIGHT
TZOFFSETFROM:-0500
TZOFFSETTO:-0400
TZNAME:EDT
DTSTART:20220313T070000
END:DAYLIGHT
BEGIN:STANDARD
TZOFFSETFROM:-0400
TZOFFSETTO:-0500
TZNAME:EST
DTSTART:20221106T060000
END:STANDARD
END:VTIMEZONE
BEGIN:VEVENT
DTSTART;TZID=America/Toronto:20210203T203000
DTEND;TZID=America/Toronto:20210203T210000
DTSTAMP:20260420T130612
CREATED:20210129T214313Z
LAST-MODIFIED:20210129T215631Z
UID:30807-1612384200-1612386000@socialwork.utoronto.ca
SUMMARY:Black History Month: 30@8:30
DESCRIPTION:On February 3\, as part of Black History Month The CRIB will present “This is us\,” a special edition of its popular Instagram Live series\, 30@8:30\, hosted by Associate Professor Tanya Sharpe.  \nTo watch\, follow @thecribcommunity on Instagram and tune in to Instagram Live at 8:30pm on February 3rd. \nOver the course of the month\, across its social media channels\, The CRIB will also highlight a different component of Dr. Sharpe’s Model of Coping for African American Survivors of Homicide Victims (MCAASAV)\, with a special focus on the connection between Black histories and Black futures. Topics will include cultural trauma\, the Cultural of homicide\, racial appraisal\, and coping strategies. \n 
URL:https://socialwork.utoronto.ca/event/black-history-month-30830/
LOCATION:Ontario
CATEGORIES:Public
END:VEVENT
END:VCALENDAR