BEGIN:VCALENDAR
VERSION:2.0
PRODID:-//Factor-Inwentash Faculty of Social Work - ECPv6.15.20//NONSGML v1.0//EN
CALSCALE:GREGORIAN
METHOD:PUBLISH
X-ORIGINAL-URL:https://socialwork.utoronto.ca
X-WR-CALDESC:Events for Factor-Inwentash Faculty of Social Work
REFRESH-INTERVAL;VALUE=DURATION:PT1H
X-Robots-Tag:noindex
X-PUBLISHED-TTL:PT1H
BEGIN:VTIMEZONE
TZID:America/Toronto
BEGIN:DAYLIGHT
TZOFFSETFROM:-0500
TZOFFSETTO:-0400
TZNAME:EDT
DTSTART:20190310T070000
END:DAYLIGHT
BEGIN:STANDARD
TZOFFSETFROM:-0400
TZOFFSETTO:-0500
TZNAME:EST
DTSTART:20191103T060000
END:STANDARD
BEGIN:DAYLIGHT
TZOFFSETFROM:-0500
TZOFFSETTO:-0400
TZNAME:EDT
DTSTART:20200308T070000
END:DAYLIGHT
BEGIN:STANDARD
TZOFFSETFROM:-0400
TZOFFSETTO:-0500
TZNAME:EST
DTSTART:20201101T060000
END:STANDARD
BEGIN:DAYLIGHT
TZOFFSETFROM:-0500
TZOFFSETTO:-0400
TZNAME:EDT
DTSTART:20210314T070000
END:DAYLIGHT
BEGIN:STANDARD
TZOFFSETFROM:-0400
TZOFFSETTO:-0500
TZNAME:EST
DTSTART:20211107T060000
END:STANDARD
END:VTIMEZONE
BEGIN:VEVENT
DTSTART;TZID=America/Toronto:20201210T160000
DTEND;TZID=America/Toronto:20201210T170000
DTSTAMP:20260422T113626
CREATED:20201203T211424Z
LAST-MODIFIED:20201207T205617Z
UID:30304-1607616000-1607619600@socialwork.utoronto.ca
SUMMARY:U of T Panel Series: What would society look like without police?
DESCRIPTION:The World We Want: A Zócalo and University of Toronto Panel Series\nModerated by Jill Leovy\, Journalist and Author\, Ghettoside \nWHAT WOULD SOCIETY LOOK LIKE WITHOUT POLICE? \n>Click here to register \nAll over the world\, law enforcement violence and corruption have reignited anti-racism movements that seek the reform and defunding of police—or even their outright abolition. Advocates of defunding the police say it would open up possibilities for addressing social challenges\, from improving mental health and developing more sustainable neighborhoods and economies\, to repairing the damage from centuries of discrimination and state violence. How would such a transfer of resources play out\, especially in communities with a highly visible police presence? Who would replace police in their core work of emergency response\, violence prevention\, and crime investigation? What would it mean for a 21st-century society to dismantle\, or even eliminate\, its policing? \nUniversity of Toronto Factor-Inwentash Faculty of Social Work Dean Dexter Voisin\, Harvard University professor of criminal justice Sandra Susan Smith\, and Rachel Harmon\, director of the Center for Criminal Justice at University of Virginia Law\, visit Zócalo to explore what our communities and nations would look like without traditional cops. \n\nZócalo and the University of Toronto present The World We Want\, an event series exploring our current societal\, political and economic challenges and how we might emerge from the current moment. 
URL:https://socialwork.utoronto.ca/event/u-of-t-panel-series-what-would-society-look-like-without-police/
CATEGORIES:External public event
END:VEVENT
END:VCALENDAR