BEGIN:VCALENDAR
VERSION:2.0
PRODID:-//Factor-Inwentash Faculty of Social Work - ECPv6.15.20//NONSGML v1.0//EN
CALSCALE:GREGORIAN
METHOD:PUBLISH
X-ORIGINAL-URL:https://socialwork.utoronto.ca
X-WR-CALDESC:Events for Factor-Inwentash Faculty of Social Work
REFRESH-INTERVAL;VALUE=DURATION:PT1H
X-Robots-Tag:noindex
X-PUBLISHED-TTL:PT1H
BEGIN:VTIMEZONE
TZID:America/Toronto
BEGIN:DAYLIGHT
TZOFFSETFROM:-0500
TZOFFSETTO:-0400
TZNAME:EDT
DTSTART:20190310T070000
END:DAYLIGHT
BEGIN:STANDARD
TZOFFSETFROM:-0400
TZOFFSETTO:-0500
TZNAME:EST
DTSTART:20191103T060000
END:STANDARD
BEGIN:DAYLIGHT
TZOFFSETFROM:-0500
TZOFFSETTO:-0400
TZNAME:EDT
DTSTART:20200308T070000
END:DAYLIGHT
BEGIN:STANDARD
TZOFFSETFROM:-0400
TZOFFSETTO:-0500
TZNAME:EST
DTSTART:20201101T060000
END:STANDARD
BEGIN:DAYLIGHT
TZOFFSETFROM:-0500
TZOFFSETTO:-0400
TZNAME:EDT
DTSTART:20210314T070000
END:DAYLIGHT
BEGIN:STANDARD
TZOFFSETFROM:-0400
TZOFFSETTO:-0500
TZNAME:EST
DTSTART:20211107T060000
END:STANDARD
END:VTIMEZONE
BEGIN:VEVENT
DTSTART;TZID=America/Toronto:20201104T090000
DTEND;TZID=America/Toronto:20201104T224500
DTSTAMP:20260422T145551
CREATED:20201103T211300Z
LAST-MODIFIED:20201103T211300Z
UID:29936-1604480400-1604529900@socialwork.utoronto.ca
SUMMARY:OCSWSSW 2020 Education Forum: Racism at the Frontlines
DESCRIPTION:Date: Wednesday\, November 4\, 2020\nTime: 9 a.m. to 10:45 a.m. \nKeynote Address: Racism at the Frontlines\nSpeaker: Dr. Keith Adamson\, RSW\nDescription: This keynote address presents an opportunity to describe what racism is\, and what racism looks like in Canada. Dr. Keith Adamson will discuss the impact of racism on people of colour and will use this presentation to implore social workers and social service workers to take steps towards starting to remedy and promote healing within their own practice and the communities and clients they serve. Keith will share his thoughts around advocacy and what social workers and social service workers can do in order to address racism at all levels. \n> Click here for more information
URL:https://socialwork.utoronto.ca/event/ocswssw-2020-education-forum-racism-at-the-frontlines/
CATEGORIES:External public event
END:VEVENT
END:VCALENDAR