BEGIN:VCALENDAR
VERSION:2.0
PRODID:-//Factor-Inwentash Faculty of Social Work - ECPv6.15.20//NONSGML v1.0//EN
CALSCALE:GREGORIAN
METHOD:PUBLISH
X-WR-CALNAME:Factor-Inwentash Faculty of Social Work
X-ORIGINAL-URL:https://socialwork.utoronto.ca
X-WR-CALDESC:Events for Factor-Inwentash Faculty of Social Work
REFRESH-INTERVAL;VALUE=DURATION:PT1H
X-Robots-Tag:noindex
X-PUBLISHED-TTL:PT1H
BEGIN:VTIMEZONE
TZID:America/Toronto
BEGIN:DAYLIGHT
TZOFFSETFROM:-0500
TZOFFSETTO:-0400
TZNAME:EDT
DTSTART:20190310T070000
END:DAYLIGHT
BEGIN:STANDARD
TZOFFSETFROM:-0400
TZOFFSETTO:-0500
TZNAME:EST
DTSTART:20191103T060000
END:STANDARD
BEGIN:DAYLIGHT
TZOFFSETFROM:-0500
TZOFFSETTO:-0400
TZNAME:EDT
DTSTART:20200308T070000
END:DAYLIGHT
BEGIN:STANDARD
TZOFFSETFROM:-0400
TZOFFSETTO:-0500
TZNAME:EST
DTSTART:20201101T060000
END:STANDARD
BEGIN:DAYLIGHT
TZOFFSETFROM:-0500
TZOFFSETTO:-0400
TZNAME:EDT
DTSTART:20210314T070000
END:DAYLIGHT
BEGIN:STANDARD
TZOFFSETFROM:-0400
TZOFFSETTO:-0500
TZNAME:EST
DTSTART:20211107T060000
END:STANDARD
END:VTIMEZONE
BEGIN:VEVENT
DTSTART;TZID=America/Toronto:20200909T090000
DTEND;TZID=America/Toronto:20200911T120000
DTSTAMP:20260420T173946
CREATED:20200908T134617Z
LAST-MODIFIED:20200908T134925Z
UID:29001-1599642000-1599825600@socialwork.utoronto.ca
SUMMARY:MSW Orientation & Introduction to Social Work Conference
DESCRIPTION:Welcome Master of Social Work students! \nOrientation: Wednesday\, Sept. 9\, 2020 \nIntroduction to Social Work Conference: Sept. 10-11\, 2020 (For first year MSW Students of the 2-year program only) \nClick here to view our Fall 2020 Welcome and Orientation Materials\, which includes the agendas and registration links for both Orientation and the Introduction to Social Work Conference. \n 
URL:https://socialwork.utoronto.ca/event/msw-orientation-introduction-to-social-work-conference/
LOCATION:Ontario
CATEGORIES:Students
END:VEVENT
BEGIN:VEVENT
DTSTART;TZID=America/Toronto:20200910T110000
DTEND;TZID=America/Toronto:20200911T150000
DTSTAMP:20260420T173946
CREATED:20200831T181752Z
LAST-MODIFIED:20200831T181846Z
UID:28937-1599735600-1599836400@socialwork.utoronto.ca
SUMMARY:First year PhD student Orientation
DESCRIPTION:FIFSW First-Year PhD Student Orientation  \nSeptember 10 – 11\, 2020  \nAgenda – PDF
URL:https://socialwork.utoronto.ca/event/first-year-phd-student-orientation/
LOCATION:Ontario
CATEGORIES:Students
END:VEVENT
END:VCALENDAR