BEGIN:VCALENDAR
VERSION:2.0
PRODID:-//Factor-Inwentash Faculty of Social Work - ECPv6.15.20//NONSGML v1.0//EN
CALSCALE:GREGORIAN
METHOD:PUBLISH
X-WR-CALNAME:Factor-Inwentash Faculty of Social Work
X-ORIGINAL-URL:https://socialwork.utoronto.ca
X-WR-CALDESC:Events for Factor-Inwentash Faculty of Social Work
REFRESH-INTERVAL;VALUE=DURATION:PT1H
X-Robots-Tag:noindex
X-PUBLISHED-TTL:PT1H
BEGIN:VTIMEZONE
TZID:America/Toronto
BEGIN:DAYLIGHT
TZOFFSETFROM:-0500
TZOFFSETTO:-0400
TZNAME:EDT
DTSTART:20190310T070000
END:DAYLIGHT
BEGIN:STANDARD
TZOFFSETFROM:-0400
TZOFFSETTO:-0500
TZNAME:EST
DTSTART:20191103T060000
END:STANDARD
BEGIN:DAYLIGHT
TZOFFSETFROM:-0500
TZOFFSETTO:-0400
TZNAME:EDT
DTSTART:20200308T070000
END:DAYLIGHT
BEGIN:STANDARD
TZOFFSETFROM:-0400
TZOFFSETTO:-0500
TZNAME:EST
DTSTART:20201101T060000
END:STANDARD
BEGIN:DAYLIGHT
TZOFFSETFROM:-0500
TZOFFSETTO:-0400
TZNAME:EDT
DTSTART:20210314T070000
END:DAYLIGHT
BEGIN:STANDARD
TZOFFSETFROM:-0400
TZOFFSETTO:-0500
TZNAME:EST
DTSTART:20211107T060000
END:STANDARD
END:VTIMEZONE
BEGIN:VEVENT
DTSTART;TZID=America/Toronto:20200422T203000
DTEND;TZID=America/Toronto:20200422T210000
DTSTAMP:20260419T225810
CREATED:20200406T205723Z
LAST-MODIFIED:20200421T203400Z
UID:26334-1587587400-1587589200@socialwork.utoronto.ca
SUMMARY:30@8:30: Dialogue #2 Featuring Arjuman Siddiqi
DESCRIPTION:Location: @thecribcommunity on Instagram Live\nDialogue #2\, featuring Arjuman Siddiqi\, Associate Professor\, Dalla Lana School of Public Health\nEach week\, host Dr. Tanya L. Sharpe — Associate Professor at the Factor-Inwentash Faculty of Social Work and Founder and Director of The CRIB — will engage leading scholars\, community leaders\, and social work professionals in a 30-minute dialogue that explores how the current global pandemic is affecting vulnerable populations— and how we can ensure that we are responding to their needs. \nTopics will include the relationship between COVID-19 and structural violence\, traumatic stress and grief\, gun violence\, the impact on the incarcerated\, and the erasure of our healthcare system. \nSix dialogues will take place on Instagram Live. The seventh and final episode\, on May 27th\, will bring all featured guest speakers together via Zoom for an interactive Q&A. A complete list of guest speakers will be announced soon. \nHow to watch 30@8:30: The Impact of COVID-19 on Vulnerable Communities: \n\nFollow @thecribcommunity on Instagram\nTune into @thecribcommunity on Instagram Live every Wednesday at 8:30pm starting April 15th
URL:https://socialwork.utoronto.ca/event/30830-dialogue-2/
LOCATION:Ontario
CATEGORIES:Public
END:VEVENT
END:VCALENDAR