BEGIN:VCALENDAR
VERSION:2.0
PRODID:-//Factor-Inwentash Faculty of Social Work - ECPv6.15.20//NONSGML v1.0//EN
CALSCALE:GREGORIAN
METHOD:PUBLISH
X-WR-CALNAME:Factor-Inwentash Faculty of Social Work
X-ORIGINAL-URL:https://socialwork.utoronto.ca
X-WR-CALDESC:Events for Factor-Inwentash Faculty of Social Work
REFRESH-INTERVAL;VALUE=DURATION:PT1H
X-Robots-Tag:noindex
X-PUBLISHED-TTL:PT1H
BEGIN:VTIMEZONE
TZID:America/Toronto
BEGIN:DAYLIGHT
TZOFFSETFROM:-0500
TZOFFSETTO:-0400
TZNAME:EDT
DTSTART:20180311T070000
END:DAYLIGHT
BEGIN:STANDARD
TZOFFSETFROM:-0400
TZOFFSETTO:-0500
TZNAME:EST
DTSTART:20181104T060000
END:STANDARD
BEGIN:DAYLIGHT
TZOFFSETFROM:-0500
TZOFFSETTO:-0400
TZNAME:EDT
DTSTART:20190310T070000
END:DAYLIGHT
BEGIN:STANDARD
TZOFFSETFROM:-0400
TZOFFSETTO:-0500
TZNAME:EST
DTSTART:20191103T060000
END:STANDARD
BEGIN:DAYLIGHT
TZOFFSETFROM:-0500
TZOFFSETTO:-0400
TZNAME:EDT
DTSTART:20200308T070000
END:DAYLIGHT
BEGIN:STANDARD
TZOFFSETFROM:-0400
TZOFFSETTO:-0500
TZNAME:EST
DTSTART:20201101T060000
END:STANDARD
END:VTIMEZONE
BEGIN:VEVENT
DTSTART;TZID=America/Toronto:20191002T180000
DTEND;TZID=America/Toronto:20191002T193000
DTSTAMP:20260420T121235
CREATED:20190924T171933Z
LAST-MODIFIED:20190924T195800Z
UID:23716-1570039200-1570044600@socialwork.utoronto.ca
SUMMARY:FIFSW Alumni Association - Meeting Dean Dexter Voisin
DESCRIPTION:Wednesday\, October 2nd\n6:00pm – 7:30pm\nOnline AND in person (Room 422\, Factor-Inwentash Faculty of Social Work\, 246 Bloor Street West). Details for online access will be released closer to the date. Please specify in you registration if you will be attending in person or online. \nIn the spirit of social work\, here’s your rare chance to establish rapport and to interact with the new Dean of Factor Inwentash Faculty of Social Work\, Professor Dexter Voisin! Come join us for an intimate evening of Q & A coupled with light refreshments and learn about who he is\, what he hopes for in the world of social work in Toronto and learn how we can make his stay here in the faculty memorable and meaningful. \nThe evening will begin at 6:00pm with a meeting of the Alumni Association (all alumni are welcome). At 6:30pm Dean Dexter Voisin will share some words and open the floor to questions. \nLight refreshments will be available for those attending in person. Kindly RSVP by Wednesday\, September 25th and be sure to include any dietary requirements with your registration. \nAll alumni of the Factor-Inwentash Faculty of Social Work are welcome to attend. \nTo register: https://fifswalumni.eventbrite.ca \n  \n 
URL:https://socialwork.utoronto.ca/event/fifsw-alumni-association-meeting-dean-dexter-voisin/
LOCATION:Ontario
CATEGORIES:Alumni
END:VEVENT
END:VCALENDAR