BEGIN:VCALENDAR
VERSION:2.0
PRODID:-//Factor-Inwentash Faculty of Social Work - ECPv6.15.20//NONSGML v1.0//EN
CALSCALE:GREGORIAN
METHOD:PUBLISH
X-WR-CALNAME:Factor-Inwentash Faculty of Social Work
X-ORIGINAL-URL:https://socialwork.utoronto.ca
X-WR-CALDESC:Events for Factor-Inwentash Faculty of Social Work
REFRESH-INTERVAL;VALUE=DURATION:PT1H
X-Robots-Tag:noindex
X-PUBLISHED-TTL:PT1H
BEGIN:VTIMEZONE
TZID:America/Toronto
BEGIN:DAYLIGHT
TZOFFSETFROM:-0500
TZOFFSETTO:-0400
TZNAME:EDT
DTSTART:20180311T070000
END:DAYLIGHT
BEGIN:STANDARD
TZOFFSETFROM:-0400
TZOFFSETTO:-0500
TZNAME:EST
DTSTART:20181104T060000
END:STANDARD
BEGIN:DAYLIGHT
TZOFFSETFROM:-0500
TZOFFSETTO:-0400
TZNAME:EDT
DTSTART:20190310T070000
END:DAYLIGHT
BEGIN:STANDARD
TZOFFSETFROM:-0400
TZOFFSETTO:-0500
TZNAME:EST
DTSTART:20191103T060000
END:STANDARD
BEGIN:DAYLIGHT
TZOFFSETFROM:-0500
TZOFFSETTO:-0400
TZNAME:EDT
DTSTART:20200308T070000
END:DAYLIGHT
BEGIN:STANDARD
TZOFFSETFROM:-0400
TZOFFSETTO:-0500
TZNAME:EST
DTSTART:20201101T060000
END:STANDARD
END:VTIMEZONE
BEGIN:VEVENT
DTSTART;TZID=America/Toronto:20191001T090000
DTEND;TZID=America/Toronto:20191001T110000
DTSTAMP:20260419T212032
CREATED:20190917T142022Z
LAST-MODIFIED:20190917T142022Z
UID:23416-1569920400-1569927600@socialwork.utoronto.ca
SUMMARY:Year 2 Field Instructor PD: Reviewing Beginnings and Learning Contracts
DESCRIPTION:
URL:https://socialwork.utoronto.ca/event/year-2-field-instructor-pd-reviewing-beginnings-and-learning-contracts/
LOCATION:FIFSW\, 246 Bloor St. W.\, Toronto\, ON\, M5S 1V4
CATEGORIES:Practicum
END:VEVENT
BEGIN:VEVENT
DTSTART;TZID=America/Toronto:20191001T121000
DTEND;TZID=America/Toronto:20191001T131500
DTSTAMP:20260419T212032
CREATED:20190903T141256Z
LAST-MODIFIED:20190903T141256Z
UID:22730-1569931800-1569935700@socialwork.utoronto.ca
SUMMARY:Lunch and Learn: Family and Caregiver Experience within the Mental Health System
DESCRIPTION:Tuesday\, October 1\, 2019\n12:00-1:15 pm\nRoom 720 \nThis lunch time discussion will include mental health system attitude and rules\, its impact on families\, and history; family lived experiences\, negative and positive; perspective on vital role of the social worker in helping families navigate the system and promote communication; and Family Guidelines of the Mental Health Commission. \nHome on the Hill is a family driven organization committed to developing supportive housing for those with serious mental illness and family support and respite services. This organization runs a successful lecture series where well regarded psychiatrists\, GP psychotherapists\, psychologists and other professionals give educational lectures about serious mental illness. Home on the Hill is located in Richmond Hill\, Ontario. \n  \nPlease bring your own lunch. Registration not necessary. \n  \nMaria Lorenzoni is a retired Adult ESL instructor with 25 years experience with the Toronto District School Board Continuing Education Department. She is also a caregiver to a son with mental illness. She was born in Italy\, grew up in New York City and has lived in Toronto for 40 years with her husband and two children\, currently in Vaughan. Maria has worked as a volunteer in the past with a mental health group serving the Italian community. This experience\, as well as her own lived experience as a caregiver\, has motivated her to be involved to find strategies to improve the lives of mental health individuals\, especially in terms of housing and public awareness. She has been participating in the initiatives of Home on the Hill for a few years. \nMaggie Veltheer a former psychiatrist nurse at St. Thomas Psychiatric Hospital is Program Director of Home on the Hill Supportive Housing. Maggie runs a family support group and coordinates an art therapy group\, life skills cooking group and a music group. \n 
URL:https://socialwork.utoronto.ca/event/family-caregiver-experience-mh-system-2019/
LOCATION:Ontario
CATEGORIES:Students
END:VEVENT
BEGIN:VEVENT
DTSTART;TZID=America/Toronto:20191001T121500
DTEND;TZID=America/Toronto:20191001T130000
DTSTAMP:20260419T212032
CREATED:20190917T141802Z
LAST-MODIFIED:20190917T141802Z
UID:23414-1569932100-1569934800@socialwork.utoronto.ca
SUMMARY:Year 2/Adv FFL meeting #2
DESCRIPTION:
URL:https://socialwork.utoronto.ca/event/year-2-adv-ffl-meeting-2/
LOCATION:Ontario
CATEGORIES:Practicum
END:VEVENT
END:VCALENDAR