BEGIN:VCALENDAR
VERSION:2.0
PRODID:-//Factor-Inwentash Faculty of Social Work - ECPv6.15.20//NONSGML v1.0//EN
CALSCALE:GREGORIAN
METHOD:PUBLISH
X-ORIGINAL-URL:https://socialwork.utoronto.ca
X-WR-CALDESC:Events for Factor-Inwentash Faculty of Social Work
REFRESH-INTERVAL;VALUE=DURATION:PT1H
X-Robots-Tag:noindex
X-PUBLISHED-TTL:PT1H
BEGIN:VTIMEZONE
TZID:America/Toronto
BEGIN:DAYLIGHT
TZOFFSETFROM:-0500
TZOFFSETTO:-0400
TZNAME:EDT
DTSTART:20170312T070000
END:DAYLIGHT
BEGIN:STANDARD
TZOFFSETFROM:-0400
TZOFFSETTO:-0500
TZNAME:EST
DTSTART:20171105T060000
END:STANDARD
BEGIN:DAYLIGHT
TZOFFSETFROM:-0500
TZOFFSETTO:-0400
TZNAME:EDT
DTSTART:20180311T070000
END:DAYLIGHT
BEGIN:STANDARD
TZOFFSETFROM:-0400
TZOFFSETTO:-0500
TZNAME:EST
DTSTART:20181104T060000
END:STANDARD
BEGIN:DAYLIGHT
TZOFFSETFROM:-0500
TZOFFSETTO:-0400
TZNAME:EDT
DTSTART:20190310T070000
END:DAYLIGHT
BEGIN:STANDARD
TZOFFSETFROM:-0400
TZOFFSETTO:-0500
TZNAME:EST
DTSTART:20191103T060000
END:STANDARD
END:VTIMEZONE
BEGIN:VEVENT
DTSTART;TZID=America/Toronto:20181203T120000
DTEND;TZID=America/Toronto:20181203T131500
DTSTAMP:20260421T213311
CREATED:20181023T191539Z
LAST-MODIFIED:20181023T191539Z
UID:19985-1543838400-1543842900@socialwork.utoronto.ca
SUMMARY:December 6th - Day of Remembrance
DESCRIPTION:National Day of Remembrance & Action on Violence Against Women\nMonday\, December 3\, 2018\n12:00-1:15pm\n7th Floor Lounge\n\n\nA light lunch will be provided.\n\n\nAbout December 6th\nDecember 6 is the National Day of Remembrance and Action on Violence Against Women in Canada. Established in 1991 by the Parliament of Canada\, this day marks the anniversary of the murders in 1989 of 14 young women at l’École Polytechnique de Montréal. They died because they were women.\n\nAs well as commemorating the 14 young women whose lives ended in an act of gender-based violence that shocked the nation\, December 6 represents an opportunity for Canadians to reflect on the phenomenon of violence against women in our society. It is also an opportunity to consider the women and girls for whom violence is a daily reality\, and to remember those who have died as a result of gender-based violence. And finally\, it is a day on which communities can consider concrete actions to eliminate all forms of violence against women and girls.
URL:https://socialwork.utoronto.ca/event/december-6th-day-of-remembrance/
CATEGORIES:Students
END:VEVENT
END:VCALENDAR