BEGIN:VCALENDAR
VERSION:2.0
PRODID:-//Factor-Inwentash Faculty of Social Work - ECPv6.15.20//NONSGML v1.0//EN
CALSCALE:GREGORIAN
METHOD:PUBLISH
X-ORIGINAL-URL:https://socialwork.utoronto.ca
X-WR-CALDESC:Events for Factor-Inwentash Faculty of Social Work
REFRESH-INTERVAL;VALUE=DURATION:PT1H
X-Robots-Tag:noindex
X-PUBLISHED-TTL:PT1H
BEGIN:VTIMEZONE
TZID:America/Toronto
BEGIN:DAYLIGHT
TZOFFSETFROM:-0500
TZOFFSETTO:-0400
TZNAME:EDT
DTSTART:20170312T070000
END:DAYLIGHT
BEGIN:STANDARD
TZOFFSETFROM:-0400
TZOFFSETTO:-0500
TZNAME:EST
DTSTART:20171105T060000
END:STANDARD
BEGIN:DAYLIGHT
TZOFFSETFROM:-0500
TZOFFSETTO:-0400
TZNAME:EDT
DTSTART:20180311T070000
END:DAYLIGHT
BEGIN:STANDARD
TZOFFSETFROM:-0400
TZOFFSETTO:-0500
TZNAME:EST
DTSTART:20181104T060000
END:STANDARD
BEGIN:DAYLIGHT
TZOFFSETFROM:-0500
TZOFFSETTO:-0400
TZNAME:EDT
DTSTART:20190310T070000
END:DAYLIGHT
BEGIN:STANDARD
TZOFFSETFROM:-0400
TZOFFSETTO:-0500
TZNAME:EST
DTSTART:20191103T060000
END:STANDARD
END:VTIMEZONE
BEGIN:VEVENT
DTSTART;TZID=America/Toronto:20180615T090000
DTEND;TZID=America/Toronto:20180615T110000
DTSTAMP:20260421T155531
CREATED:20180426T151203Z
LAST-MODIFIED:20180627T154914Z
UID:18556-1529053200-1529060400@socialwork.utoronto.ca
SUMMARY:Field Instructor Professional Development Workshop:  Orientation and Integrating Theory and Practice
DESCRIPTION:This workshop is offered for Year 2/Advanced Standing Field Instructors.  Registration is required (attend in person or via webinar). \n  \nRegistration \n 
URL:https://socialwork.utoronto.ca/event/field-instructor-professional-development-workshop-orientation-and-integrating-theory-and-practice/
LOCATION:FIFSW\, 246 Bloor Street W.\, Toronto\, ON\, M5S 1V4\, Canada
CATEGORIES:Practicum
END:VEVENT
END:VCALENDAR