BEGIN:VCALENDAR
VERSION:2.0
PRODID:-//Factor-Inwentash Faculty of Social Work - ECPv6.15.20//NONSGML v1.0//EN
CALSCALE:GREGORIAN
METHOD:PUBLISH
X-ORIGINAL-URL:https://socialwork.utoronto.ca
X-WR-CALDESC:Events for Factor-Inwentash Faculty of Social Work
REFRESH-INTERVAL;VALUE=DURATION:PT1H
X-Robots-Tag:noindex
X-PUBLISHED-TTL:PT1H
BEGIN:VTIMEZONE
TZID:America/Toronto
BEGIN:DAYLIGHT
TZOFFSETFROM:-0500
TZOFFSETTO:-0400
TZNAME:EDT
DTSTART:20170312T070000
END:DAYLIGHT
BEGIN:STANDARD
TZOFFSETFROM:-0400
TZOFFSETTO:-0500
TZNAME:EST
DTSTART:20171105T060000
END:STANDARD
BEGIN:DAYLIGHT
TZOFFSETFROM:-0500
TZOFFSETTO:-0400
TZNAME:EDT
DTSTART:20180311T070000
END:DAYLIGHT
BEGIN:STANDARD
TZOFFSETFROM:-0400
TZOFFSETTO:-0500
TZNAME:EST
DTSTART:20181104T060000
END:STANDARD
BEGIN:DAYLIGHT
TZOFFSETFROM:-0500
TZOFFSETTO:-0400
TZNAME:EDT
DTSTART:20190310T070000
END:DAYLIGHT
BEGIN:STANDARD
TZOFFSETFROM:-0400
TZOFFSETTO:-0500
TZNAME:EST
DTSTART:20191103T060000
END:STANDARD
END:VTIMEZONE
BEGIN:VEVENT
DTSTART;TZID=America/Toronto:20180420T090000
DTEND;TZID=America/Toronto:20180420T113000
DTSTAMP:20260421T205329
CREATED:20180309T161028Z
LAST-MODIFIED:20180410T175554Z
UID:18120-1524214800-1524223800@socialwork.utoronto.ca
SUMMARY:Consultation on Social Work Practice Assessment Tools
DESCRIPTION:Part One \nProfessor Marion Bogo\, OC\, will speak about the progression of knowledge regarding evaluating practice that has informed the development of the online evaluation tool now used. Professor Bogo has presented on this subject at schools and conferences of social work education around the world. We are very fortunate that she will present again on this subject as part of the April 20 consultation. \nPart Two \nProfessor Bogo’s presentation will be followed immediately by an invitation for you to share your feedback on your experience with the online evaluation tool\, and recommendations you have for its future use. \nAll attendees will receive a certificate of attendance for Professor Bogo’s session and / or for the consultation\, should you wish to apply it to CCP requirements of OCSWSSW. \nRegistration: \nhttps://www.eventbrite.ca/e/consultation-on-social-work-practicum-assessment-tools-tickets-43746896144
URL:https://socialwork.utoronto.ca/event/consultation-on-social-work-practice-assessment-tools/
LOCATION:Claude Bissell Building\, 140 St. George Street\, Room 205\, Toronto\, Ontario\, Canada
CATEGORIES:Practicum
END:VEVENT
END:VCALENDAR