BEGIN:VCALENDAR
VERSION:2.0
PRODID:-//Factor-Inwentash Faculty of Social Work - ECPv6.15.20//NONSGML v1.0//EN
CALSCALE:GREGORIAN
METHOD:PUBLISH
X-ORIGINAL-URL:https://socialwork.utoronto.ca
X-WR-CALDESC:Events for Factor-Inwentash Faculty of Social Work
REFRESH-INTERVAL;VALUE=DURATION:PT1H
X-Robots-Tag:noindex
X-PUBLISHED-TTL:PT1H
BEGIN:VTIMEZONE
TZID:America/Toronto
BEGIN:DAYLIGHT
TZOFFSETFROM:-0500
TZOFFSETTO:-0400
TZNAME:EDT
DTSTART:20170312T070000
END:DAYLIGHT
BEGIN:STANDARD
TZOFFSETFROM:-0400
TZOFFSETTO:-0500
TZNAME:EST
DTSTART:20171105T060000
END:STANDARD
BEGIN:DAYLIGHT
TZOFFSETFROM:-0500
TZOFFSETTO:-0400
TZNAME:EDT
DTSTART:20180311T070000
END:DAYLIGHT
BEGIN:STANDARD
TZOFFSETFROM:-0400
TZOFFSETTO:-0500
TZNAME:EST
DTSTART:20181104T060000
END:STANDARD
BEGIN:DAYLIGHT
TZOFFSETFROM:-0500
TZOFFSETTO:-0400
TZNAME:EDT
DTSTART:20190310T070000
END:DAYLIGHT
BEGIN:STANDARD
TZOFFSETFROM:-0400
TZOFFSETTO:-0500
TZNAME:EST
DTSTART:20191103T060000
END:STANDARD
END:VTIMEZONE
BEGIN:VEVENT
DTSTART;TZID=America/Toronto:20180315T180000
DTEND;TZID=America/Toronto:20180315T203000
DTSTAMP:20260421T202940
CREATED:20171206T215309Z
LAST-MODIFIED:20180314T151750Z
UID:17592-1521136800-1521145800@socialwork.utoronto.ca
SUMMARY:Alumni Distinguished Speakers Series: Setsuko Thurlow
DESCRIPTION:Setsuko Thurlow: Survivor\, Activist\, Trailblazer\nMs. Thurlow is one of the Faculty’s prominent alumni who recently accepted the Nobel Peace Prize on behalf of the International Campaign to Abolish Nuclear Weapons (ICAN). \nDate: Thursday\, March 15th\, 2018 \nLocation: Toronto Marriott Bloor Yorkville Hotel\, Forest Hill Ballroom (1st Floor)\, 90 Bloor St E\, Toronto\, ON M4W 1A7 \nTime: 6:00 – 8:30pm \nTalk followed by reception \n  \nThe Distinguished Speakers Series is an annual event hosted by the Factor-Inwentash Faculty of Social Work’s Alumni Association. \nThis event is free and open to the public. Registration required. \nPlease register at https://fifswspeakersseries.eventbrite.ca. \nPDF of event poster \n  \nSpeaker Bio: \n \nSetsuko Thurlow survived the Hiroshima atomic bombing in 1945. She was a 13-year-old\, grade 8 student at the time. Thurlow\, who married a Canadian and moved to Toronto in 1955\, was in Oslo in December to accept the Nobel Peace Prize on behalf of the International Campaign to Abolish Nuclear Weapons (ICAN). Throughout her life\, she has worked tirelessly to campaign against nuclear weapons and has been a leading figure in its movement\, playing a key role to push the United Nations to adapt a landmark treaty outlawing nuclear weapons. \nOne of our prominent alumni\, Setsuko Thurlow earned both a Bachelor and Master-level degree of social work from the Factor-Inwentash Faculty of Social Work\, University of Toronto. Spanning more than four decades\, Ms. Thurlow has had an illustrious and impressive career\, working in several different organizations\, such as the Toronto Board of Education\, the YWCA of Metropolitan Toronto\, and the Holland Bloorview Kids Rehabilitation Hospital (then-called the Ontario Crippled Children’s Centre). She was the founder and President of the Japanese Family Services of Metropolitan Toronto and provided leadership within many other multicultural organizations. She has been the recipient of numerous awards and honours\, including the Queen Elizabeth II Diamond Jubilee Award and the Order of Canada for her outstanding contributions to social work and her tireless efforts to rid the world of nuclear weapons. To this day\, Ms. Thurlow continues to share her inspiring story around the world.
URL:https://socialwork.utoronto.ca/event/alumni-distinguished-speakers-series-sthurlow/
LOCATION:Mazzoleni Concert Hall\, The Royal Conservatory of Music\, 273 Bloor St. West\, ON\, M5s 1W2\, Canada
CATEGORIES:Alumni,Students
END:VEVENT
END:VCALENDAR