BEGIN:VCALENDAR
VERSION:2.0
PRODID:-//Factor-Inwentash Faculty of Social Work - ECPv6.15.20//NONSGML v1.0//EN
CALSCALE:GREGORIAN
METHOD:PUBLISH
X-ORIGINAL-URL:https://socialwork.utoronto.ca
X-WR-CALDESC:Events for Factor-Inwentash Faculty of Social Work
REFRESH-INTERVAL;VALUE=DURATION:PT1H
X-Robots-Tag:noindex
X-PUBLISHED-TTL:PT1H
BEGIN:VTIMEZONE
TZID:America/Toronto
BEGIN:DAYLIGHT
TZOFFSETFROM:-0500
TZOFFSETTO:-0400
TZNAME:EDT
DTSTART:20170312T070000
END:DAYLIGHT
BEGIN:STANDARD
TZOFFSETFROM:-0400
TZOFFSETTO:-0500
TZNAME:EST
DTSTART:20171105T060000
END:STANDARD
BEGIN:DAYLIGHT
TZOFFSETFROM:-0500
TZOFFSETTO:-0400
TZNAME:EDT
DTSTART:20180311T070000
END:DAYLIGHT
BEGIN:STANDARD
TZOFFSETFROM:-0400
TZOFFSETTO:-0500
TZNAME:EST
DTSTART:20181104T060000
END:STANDARD
BEGIN:DAYLIGHT
TZOFFSETFROM:-0500
TZOFFSETTO:-0400
TZNAME:EDT
DTSTART:20190310T070000
END:DAYLIGHT
BEGIN:STANDARD
TZOFFSETFROM:-0400
TZOFFSETTO:-0500
TZNAME:EST
DTSTART:20191103T060000
END:STANDARD
END:VTIMEZONE
BEGIN:VEVENT
DTSTART;TZID=America/Toronto:20180227T120000
DTEND;TZID=America/Toronto:20180227T130000
DTSTAMP:20260421T150246
CREATED:20180208T222159Z
LAST-MODIFIED:20180208T225538Z
UID:17932-1519732800-1519736400@socialwork.utoronto.ca
SUMMARY:PhD Student Showcase (Webinar)
DESCRIPTION:The FIFSW Alumni Association proudly presents\nA PhD Student Showcase Webinar\nTuesday February 27\, 2018\n12:00 – 1:00 pm EST \n  \nThis webinar features presentations by the following PhD students: \n  \n“Internet enabled technology use of youth in residential treatment: Service providers experiences and perspectives” \nBethany Good\, MSW\, RSW\nPhD Candidate\, Research Coordinator & Course Instructor \n  \n“Understanding the experiences of adults in midlife with anorexia nervosa: A constructivist grounded theory study” \nLeslie McCallum\, B. Comm.\, MSW\, RSW\, DSSA\nPhD Candidate \n  \n“Psychosocial intervention for older HIV+ adults with HAND” \nAndrew Eaton\, MSW\, RSW\nPhD Student \n  \nPresenters will also participate in a Q&A where you can ask them about their process and work. \n  \nWebinar login details will be sent to registrants closer to the event date. \nTo register\, please visit www.phdshowcase.eventbrite.ca. \nPlease join us to hear about their exciting work!
URL:https://socialwork.utoronto.ca/event/phd-student-showcase-webinar/
LOCATION:Ontario
CATEGORIES:Alumni,Students
END:VEVENT
BEGIN:VEVENT
DTSTART;TZID=America/Toronto:20180227T121500
DTEND;TZID=America/Toronto:20180227T131500
DTSTAMP:20260421T150246
CREATED:20171214T180545Z
LAST-MODIFIED:20171214T180545Z
UID:17659-1519733700-1519737300@socialwork.utoronto.ca
SUMMARY:Year 1 student meetings with faculty-field liaisons (FFL)
DESCRIPTION:Locations posted at: https://socialwork.utoronto.ca/practicum/for-students/year-1/
URL:https://socialwork.utoronto.ca/event/year-1-student-meetings-with-faculty-field-liaisons-ffl-3/
LOCATION:Claude Bissell Building\, 140 St. George Street\, Room 205\, Toronto\, Ontario\, Canada
CATEGORIES:Practicum
END:VEVENT
END:VCALENDAR