BEGIN:VCALENDAR
VERSION:2.0
PRODID:-//Factor-Inwentash Faculty of Social Work - ECPv6.15.20//NONSGML v1.0//EN
CALSCALE:GREGORIAN
METHOD:PUBLISH
X-ORIGINAL-URL:https://socialwork.utoronto.ca
X-WR-CALDESC:Events for Factor-Inwentash Faculty of Social Work
REFRESH-INTERVAL;VALUE=DURATION:PT1H
X-Robots-Tag:noindex
X-PUBLISHED-TTL:PT1H
BEGIN:VTIMEZONE
TZID:America/Toronto
BEGIN:DAYLIGHT
TZOFFSETFROM:-0500
TZOFFSETTO:-0400
TZNAME:EDT
DTSTART:20160313T070000
END:DAYLIGHT
BEGIN:STANDARD
TZOFFSETFROM:-0400
TZOFFSETTO:-0500
TZNAME:EST
DTSTART:20161106T060000
END:STANDARD
BEGIN:DAYLIGHT
TZOFFSETFROM:-0500
TZOFFSETTO:-0400
TZNAME:EDT
DTSTART:20170312T070000
END:DAYLIGHT
BEGIN:STANDARD
TZOFFSETFROM:-0400
TZOFFSETTO:-0500
TZNAME:EST
DTSTART:20171105T060000
END:STANDARD
BEGIN:DAYLIGHT
TZOFFSETFROM:-0500
TZOFFSETTO:-0400
TZNAME:EDT
DTSTART:20180311T070000
END:DAYLIGHT
BEGIN:STANDARD
TZOFFSETFROM:-0400
TZOFFSETTO:-0500
TZNAME:EST
DTSTART:20181104T060000
END:STANDARD
END:VTIMEZONE
BEGIN:VEVENT
DTSTART;TZID=America/Toronto:20171106T083000
DTEND;TZID=America/Toronto:20171106T143000
DTSTAMP:20260420T233750
CREATED:20170920T163208Z
LAST-MODIFIED:20171012T213612Z
UID:17075-1509957000-1509978600@socialwork.utoronto.ca
SUMMARY:RBC Conference - The Fintech Revolution: What's Happening\, What to Expect\, and Why is it Important?
DESCRIPTION:  \nEvent Poster \nThe RBC Conference is an annual\, one-day conference presented by the RBC Chair in Public and Economic Policy and the RBC Chair in Applied Social Work Research at the University of Toronto\, co-hosted by the University’s Faculty of Arts and Science and Factor-Inwentash Faculty of Social Work. \nWhen: Monday\, November 6\, 2017 from 8:30am-2:30pm \nWhere: George Ignatieff Theatre and the Buttery\, 15 Devonshire Place\, Toronto \nRegistration: www.uoft.me/2017Conference \nCost: Free\, open to the public \nSpeakers: \nGrahame Johnson\, Managing Director of the Bank’s Funds Management and Banking Department (FBD)\, Bank of Canada\nProfessor Andreas Park\, Associate Professor of Finance\, University of Toronto\nProfessor Angelo Melino\, RBC Chair in Economics and Public Policy and Professor of Economics\, University of Toronto\nProfessor David Wolfe\, Co-Director\, Innovation Policy Lab\, Munk School of Global Affairs\, and Professor of Political Science\, University of Toronto Mississauga \n 
URL:https://socialwork.utoronto.ca/event/rbc-conference-fintech/
LOCATION:George Ignatiaff Theatre\, 15 Devonshire Place\, Toronto\, Canada
CATEGORIES:Alumni
END:VEVENT
END:VCALENDAR