BEGIN:VCALENDAR
VERSION:2.0
PRODID:-//Factor-Inwentash Faculty of Social Work - ECPv6.15.20//NONSGML v1.0//EN
CALSCALE:GREGORIAN
METHOD:PUBLISH
X-ORIGINAL-URL:https://socialwork.utoronto.ca
X-WR-CALDESC:Events for Factor-Inwentash Faculty of Social Work
REFRESH-INTERVAL;VALUE=DURATION:PT1H
X-Robots-Tag:noindex
X-PUBLISHED-TTL:PT1H
BEGIN:VTIMEZONE
TZID:America/Toronto
BEGIN:DAYLIGHT
TZOFFSETFROM:-0500
TZOFFSETTO:-0400
TZNAME:EDT
DTSTART:20160313T070000
END:DAYLIGHT
BEGIN:STANDARD
TZOFFSETFROM:-0400
TZOFFSETTO:-0500
TZNAME:EST
DTSTART:20161106T060000
END:STANDARD
BEGIN:DAYLIGHT
TZOFFSETFROM:-0500
TZOFFSETTO:-0400
TZNAME:EDT
DTSTART:20170312T070000
END:DAYLIGHT
BEGIN:STANDARD
TZOFFSETFROM:-0400
TZOFFSETTO:-0500
TZNAME:EST
DTSTART:20171105T060000
END:STANDARD
BEGIN:DAYLIGHT
TZOFFSETFROM:-0500
TZOFFSETTO:-0400
TZNAME:EDT
DTSTART:20180311T070000
END:DAYLIGHT
BEGIN:STANDARD
TZOFFSETFROM:-0400
TZOFFSETTO:-0500
TZNAME:EST
DTSTART:20181104T060000
END:STANDARD
END:VTIMEZONE
BEGIN:VEVENT
DTSTART;TZID=America/Toronto:20171024T121500
DTEND;TZID=America/Toronto:20171024T124500
DTSTAMP:20260421T023914
CREATED:20171011T180644Z
LAST-MODIFIED:20171013T154205Z
UID:17216-1508847300-1508849100@socialwork.utoronto.ca
SUMMARY:Lunch With A Recent Grad
DESCRIPTION:12:15-12:45pm\nStudent Lounge\, Room 320 \n  \nVisit with an MSW graduate from the class of 2017 who will share their experience transitioning from being a student to being a professional and will be available to answer questions from current students. \nLearn about the Alumni Mentoring Program and how an alumni mentor might support a graduating student to get ready for the profession.
URL:https://socialwork.utoronto.ca/event/lunch-with-a-recent-grad-oct24/
LOCATION:Ontario
CATEGORIES:Alumni,Students
END:VEVENT
END:VCALENDAR