BEGIN:VCALENDAR
VERSION:2.0
PRODID:-//Factor-Inwentash Faculty of Social Work - ECPv6.15.20//NONSGML v1.0//EN
CALSCALE:GREGORIAN
METHOD:PUBLISH
X-ORIGINAL-URL:https://socialwork.utoronto.ca
X-WR-CALDESC:Events for Factor-Inwentash Faculty of Social Work
REFRESH-INTERVAL;VALUE=DURATION:PT1H
X-Robots-Tag:noindex
X-PUBLISHED-TTL:PT1H
BEGIN:VTIMEZONE
TZID:America/Toronto
BEGIN:DAYLIGHT
TZOFFSETFROM:-0500
TZOFFSETTO:-0400
TZNAME:EDT
DTSTART:20160313T070000
END:DAYLIGHT
BEGIN:STANDARD
TZOFFSETFROM:-0400
TZOFFSETTO:-0500
TZNAME:EST
DTSTART:20161106T060000
END:STANDARD
BEGIN:DAYLIGHT
TZOFFSETFROM:-0500
TZOFFSETTO:-0400
TZNAME:EDT
DTSTART:20170312T070000
END:DAYLIGHT
BEGIN:STANDARD
TZOFFSETFROM:-0400
TZOFFSETTO:-0500
TZNAME:EST
DTSTART:20171105T060000
END:STANDARD
BEGIN:DAYLIGHT
TZOFFSETFROM:-0500
TZOFFSETTO:-0400
TZNAME:EDT
DTSTART:20180311T070000
END:DAYLIGHT
BEGIN:STANDARD
TZOFFSETFROM:-0400
TZOFFSETTO:-0500
TZNAME:EST
DTSTART:20181104T060000
END:STANDARD
END:VTIMEZONE
BEGIN:VEVENT
DTSTART;TZID=America/Toronto:20170614T100000
DTEND;TZID=America/Toronto:20170614T120000
DTSTAMP:20260421T002549
CREATED:20170117T162316Z
LAST-MODIFIED:20170119T170820Z
UID:15303-1497434400-1497441600@socialwork.utoronto.ca
SUMMARY:June Convocation 2017
DESCRIPTION:MSW and PhD Convocation\nCongratulations to our graduates! \n  \nWednesday\, June 14\, 2017\n10:00am-Noon \nFor more information about the ceremony visit the Convocation Office website. \nCelebrate after the ceremony with lunch brought to you by the Alumni Association! Details to be announced.
URL:https://socialwork.utoronto.ca/event/june-convocation-2017/
LOCATION:Convocation Hall\, 31 King's College Circle\, Toronto\, Ontario\, M5S 3G4\, Canada
CATEGORIES:Students
END:VEVENT
END:VCALENDAR