BEGIN:VCALENDAR
VERSION:2.0
PRODID:-//Factor-Inwentash Faculty of Social Work - ECPv6.15.20//NONSGML v1.0//EN
CALSCALE:GREGORIAN
METHOD:PUBLISH
X-ORIGINAL-URL:https://socialwork.utoronto.ca
X-WR-CALDESC:Events for Factor-Inwentash Faculty of Social Work
REFRESH-INTERVAL;VALUE=DURATION:PT1H
X-Robots-Tag:noindex
X-PUBLISHED-TTL:PT1H
BEGIN:VTIMEZONE
TZID:America/Toronto
BEGIN:DAYLIGHT
TZOFFSETFROM:-0500
TZOFFSETTO:-0400
TZNAME:EDT
DTSTART:20160313T070000
END:DAYLIGHT
BEGIN:STANDARD
TZOFFSETFROM:-0400
TZOFFSETTO:-0500
TZNAME:EST
DTSTART:20161106T060000
END:STANDARD
BEGIN:DAYLIGHT
TZOFFSETFROM:-0500
TZOFFSETTO:-0400
TZNAME:EDT
DTSTART:20170312T070000
END:DAYLIGHT
BEGIN:STANDARD
TZOFFSETFROM:-0400
TZOFFSETTO:-0500
TZNAME:EST
DTSTART:20171105T060000
END:STANDARD
BEGIN:DAYLIGHT
TZOFFSETFROM:-0500
TZOFFSETTO:-0400
TZNAME:EDT
DTSTART:20180311T070000
END:DAYLIGHT
BEGIN:STANDARD
TZOFFSETFROM:-0400
TZOFFSETTO:-0500
TZNAME:EST
DTSTART:20181104T060000
END:STANDARD
END:VTIMEZONE
BEGIN:VEVENT
DTSTART;TZID=America/Toronto:20170526T140000
DTEND;TZID=America/Toronto:20170526T160000
DTSTAMP:20260421T051521
CREATED:20170420T154623Z
LAST-MODIFIED:20170420T154623Z
UID:15993-1495807200-1495814400@socialwork.utoronto.ca
SUMMARY:Panel Discussion: Tracing the impact of Islamaphobia on Muslim women in Canada
DESCRIPTION:Gender\, Islamaphobia and Resistance\nThe aim of this discussion is to trace the impact of Islamaphobia on Muslim women’s integration and access to social services in Canadian Cities. \nThis event is brought to you by CERIS and the Migrant Mothers Project. \nFriday\, May 26\, 2017\n2:00-4:00pm \nLOCATION: Factor-Inwentash Faculty of Social Work\, University of Toronto \n246 Bloor Street West\, Toronto\, ON\nRoom 548 \n(Near the St. George TTC Station) \nPANELISTS:\nLEÏLA BENHADJOUDJA\nAssistant Professor\, School of Sociological and\nAnthropological Studies\, University of Ottawa. \nSALINA ABJI\nPostdoctoral fellow\, Department of Sociology\nand Anthropology\, Carleton University \nSONIA BEN SOLTANE\nPhD Candidate/FRSC doctoral award repent\,\nMcGill School of Social Work\nPre-Doctoral Fellow\, Migrant Mothers Project\nat University of Toronto Factor-Inwentash\nFaculty of Social Work \n  \nThis event is accessible. Light refreshments will be served.
URL:https://socialwork.utoronto.ca/event/panel-discussion-tracing-the-impact-of-islamaphobia-on-muslim-women-in-canada/
LOCATION:Ontario
END:VEVENT
END:VCALENDAR