BEGIN:VCALENDAR
VERSION:2.0
PRODID:-//Factor-Inwentash Faculty of Social Work - ECPv6.15.20//NONSGML v1.0//EN
CALSCALE:GREGORIAN
METHOD:PUBLISH
X-ORIGINAL-URL:https://socialwork.utoronto.ca
X-WR-CALDESC:Events for Factor-Inwentash Faculty of Social Work
REFRESH-INTERVAL;VALUE=DURATION:PT1H
X-Robots-Tag:noindex
X-PUBLISHED-TTL:PT1H
BEGIN:VTIMEZONE
TZID:America/Toronto
BEGIN:DAYLIGHT
TZOFFSETFROM:-0500
TZOFFSETTO:-0400
TZNAME:EDT
DTSTART:20150308T070000
END:DAYLIGHT
BEGIN:STANDARD
TZOFFSETFROM:-0400
TZOFFSETTO:-0500
TZNAME:EST
DTSTART:20151101T060000
END:STANDARD
BEGIN:DAYLIGHT
TZOFFSETFROM:-0500
TZOFFSETTO:-0400
TZNAME:EDT
DTSTART:20160313T070000
END:DAYLIGHT
BEGIN:STANDARD
TZOFFSETFROM:-0400
TZOFFSETTO:-0500
TZNAME:EST
DTSTART:20161106T060000
END:STANDARD
BEGIN:DAYLIGHT
TZOFFSETFROM:-0500
TZOFFSETTO:-0400
TZNAME:EDT
DTSTART:20170312T070000
END:DAYLIGHT
BEGIN:STANDARD
TZOFFSETFROM:-0400
TZOFFSETTO:-0500
TZNAME:EST
DTSTART:20171105T060000
END:STANDARD
END:VTIMEZONE
BEGIN:VEVENT
DTSTART;TZID=America/Toronto:20161115T120000
DTEND;TZID=America/Toronto:20161115T131500
DTSTAMP:20260421T035255
CREATED:20161013T134223Z
LAST-MODIFIED:20161017T171628Z
UID:14864-1479211200-1479215700@socialwork.utoronto.ca
SUMMARY:Lunch and Learn: Advance Care Planning and Social Work Role
DESCRIPTION:Plan to attend a talk facilitated by Lina Gagliardi\, MSW\, RSW \nTuesday\, November 15\, 2016\nNoon-1:15pm\nRoom 720 \n  \nObjectives:  \n\nTo learn about Advance Care Planning (ACP)\nTo review the Sunnybrook SW strategy in ACP\nTo highlight SWs as leaders in this practice\n\n  \nLina Gagliardi is the Professional Leader for Social Work at Sunnybrook Health Sciences Centre. Lina has held a clinical position for over 18 years and transitioned to the leadership position in 2013. Lina received her Masters of Social Work at the FIFSW U of T in 2000 and contributes to ongoing academic education by offering Field Placements and providing sessional lectures on Interprofessional Collaboration. \nLina is committed to advance Social Work scope of practice through an appreciative inquiry lens and to advocate for the role of Social Work within the Health Care Sector. Lina’s passion is the delivery of compassionate\, informed care delivery for patients\, their families and health care providers at every point of care. \n  \nRSVPs not required. Please bring your own lunch!
URL:https://socialwork.utoronto.ca/event/lunch-and-learn-advance-care-planning-and-social-work-practice-in-health-care/
LOCATION:Claude Bissell Building\, 140 St. George Street\, Room 205\, Toronto\, Ontario\, Canada
CATEGORIES:Students
END:VEVENT
END:VCALENDAR