BEGIN:VCALENDAR
VERSION:2.0
PRODID:-//Factor-Inwentash Faculty of Social Work - ECPv6.15.20//NONSGML v1.0//EN
CALSCALE:GREGORIAN
METHOD:PUBLISH
X-ORIGINAL-URL:https://socialwork.utoronto.ca
X-WR-CALDESC:Events for Factor-Inwentash Faculty of Social Work
REFRESH-INTERVAL;VALUE=DURATION:PT1H
X-Robots-Tag:noindex
X-PUBLISHED-TTL:PT1H
BEGIN:VTIMEZONE
TZID:America/Toronto
BEGIN:DAYLIGHT
TZOFFSETFROM:-0500
TZOFFSETTO:-0400
TZNAME:EDT
DTSTART:20150308T070000
END:DAYLIGHT
BEGIN:STANDARD
TZOFFSETFROM:-0400
TZOFFSETTO:-0500
TZNAME:EST
DTSTART:20151101T060000
END:STANDARD
BEGIN:DAYLIGHT
TZOFFSETFROM:-0500
TZOFFSETTO:-0400
TZNAME:EDT
DTSTART:20160313T070000
END:DAYLIGHT
BEGIN:STANDARD
TZOFFSETFROM:-0400
TZOFFSETTO:-0500
TZNAME:EST
DTSTART:20161106T060000
END:STANDARD
BEGIN:DAYLIGHT
TZOFFSETFROM:-0500
TZOFFSETTO:-0400
TZNAME:EDT
DTSTART:20170312T070000
END:DAYLIGHT
BEGIN:STANDARD
TZOFFSETFROM:-0400
TZOFFSETTO:-0500
TZNAME:EST
DTSTART:20171105T060000
END:STANDARD
END:VTIMEZONE
BEGIN:VEVENT
DTSTART;TZID=America/Toronto:20161018T103000
DTEND;TZID=America/Toronto:20161018T120000
DTSTAMP:20260420T222635
CREATED:20161013T200535Z
LAST-MODIFIED:20161013T200535Z
UID:14871-1476786600-1476792000@socialwork.utoronto.ca
SUMMARY:Facilitating a Research Placement
DESCRIPTION:Tuesday\, October 18\, 2016\n10:30am-Noon\nRoom 422 \n  \nJane Maidment\, Department of Human Services & Social Work\, University of Canterbury\, New Zealand \nJane Maidment will facilitate this workshop in person at the FIFSW. \nThis workshop will provide an overview about the steps and processes associated with supervising a student to undertake research tasks on placement. Ideas about how a student might support program evaluation or other relevant research in your agency will be discussed. Ways to makes link between the social work process and research will be canvassed and participants will have an opportunity to discuss ideas for how students might participate in research in their own agency. There are many tasks that support research that students can undertake while on placement that do not require the completion of a whole project. \nTo register https://facilitating-a-research-placement.eventbrite.ca
URL:https://socialwork.utoronto.ca/event/facilitating-a-research-placement/
LOCATION:Claude Bissell Building\, 140 St. George Street\, Room 205\, Toronto\, Ontario\, Canada
END:VEVENT
BEGIN:VEVENT
DTSTART;TZID=America/Toronto:20161018T113000
DTEND;TZID=America/Toronto:20161018T130000
DTSTAMP:20260420T222635
CREATED:20160707T142422Z
LAST-MODIFIED:20160707T142422Z
UID:14183-1476790200-1476795600@socialwork.utoronto.ca
SUMMARY:MSW Program Information Session - York University
DESCRIPTION:Designed for prospective applicants to learn more about the MSW Program; admission requirements and application process.
URL:https://socialwork.utoronto.ca/event/msw-program-info-session-york/
LOCATION:Career Centre Presentation Room\, 103 McLaughlin College\, Toronto\, ON\, Canada
CATEGORIES:Admissions
END:VEVENT
BEGIN:VEVENT
DTSTART;TZID=America/Toronto:20161018T121500
DTEND;TZID=America/Toronto:20161018T131500
DTSTAMP:20260420T222635
CREATED:20160704T152705Z
LAST-MODIFIED:20160930T195832Z
UID:14136-1476792900-1476796500@socialwork.utoronto.ca
SUMMARY:Practicum Forum for Year 2/Advanced Standing Students
DESCRIPTION:Opportunity for Year 2/advanced standing students to provide feedback to the Practicum Coordinators on the practicum interview and matching process. \nRegistration is not required.
URL:https://socialwork.utoronto.ca/event/practicum-forum-for-year-2advanced-standing-students/
LOCATION:Claude Bissell Building\, 140 St. George Street\, Room 205\, Toronto\, Ontario\, Canada
CATEGORIES:Practicum
END:VEVENT
END:VCALENDAR