BEGIN:VCALENDAR
VERSION:2.0
PRODID:-//Factor-Inwentash Faculty of Social Work - ECPv6.15.20//NONSGML v1.0//EN
CALSCALE:GREGORIAN
METHOD:PUBLISH
X-ORIGINAL-URL:https://socialwork.utoronto.ca
X-WR-CALDESC:Events for Factor-Inwentash Faculty of Social Work
REFRESH-INTERVAL;VALUE=DURATION:PT1H
X-Robots-Tag:noindex
X-PUBLISHED-TTL:PT1H
BEGIN:VTIMEZONE
TZID:America/Toronto
BEGIN:DAYLIGHT
TZOFFSETFROM:-0500
TZOFFSETTO:-0400
TZNAME:EDT
DTSTART:20140309T070000
END:DAYLIGHT
BEGIN:STANDARD
TZOFFSETFROM:-0400
TZOFFSETTO:-0500
TZNAME:EST
DTSTART:20141102T060000
END:STANDARD
BEGIN:DAYLIGHT
TZOFFSETFROM:-0500
TZOFFSETTO:-0400
TZNAME:EDT
DTSTART:20150308T070000
END:DAYLIGHT
BEGIN:STANDARD
TZOFFSETFROM:-0400
TZOFFSETTO:-0500
TZNAME:EST
DTSTART:20151101T060000
END:STANDARD
BEGIN:DAYLIGHT
TZOFFSETFROM:-0500
TZOFFSETTO:-0400
TZNAME:EDT
DTSTART:20160313T070000
END:DAYLIGHT
BEGIN:STANDARD
TZOFFSETFROM:-0400
TZOFFSETTO:-0500
TZNAME:EST
DTSTART:20161106T060000
END:STANDARD
END:VTIMEZONE
BEGIN:VEVENT
DTSTART;TZID=America/Toronto:20150527T180000
DTEND;TZID=America/Toronto:20150527T210000
DTSTAMP:20260421T144419
CREATED:20150407T183750Z
LAST-MODIFIED:20150512T134220Z
UID:9740-1432749600-1432760400@socialwork.utoronto.ca
SUMMARY:Alumni Spring Reunion & Association AGM
DESCRIPTION:The Alumni Association invites FIFSW alumni to learn\, reconnect and enjoy at the Annual Spring Reunion. \n6:00-6:45 pm – FIFSWAA Annual General Meeting (AGM)\n7:00-8:30 pm – Reception (book expo\, wine\, refreshments\, networking & raffle) \nThe Event will take place at FIFSW\, 7th Floor \nRSVP by May 20th to alumni.fsw@utoronto.ca  \nClick here for the event flyer.
URL:https://socialwork.utoronto.ca/event/alumni-agm/
LOCATION:Claude Bissell Building\, 140 St. George Street\, Room 205\, Toronto\, Ontario\, Canada
CATEGORIES:Alumni
ORGANIZER;CN="Unnamed Organizer":MAILTO:practicum.fsw@utoronto.ca
END:VEVENT
END:VCALENDAR