BEGIN:VCALENDAR
VERSION:2.0
PRODID:-//Factor-Inwentash Faculty of Social Work - ECPv6.15.20//NONSGML v1.0//EN
CALSCALE:GREGORIAN
METHOD:PUBLISH
X-ORIGINAL-URL:https://socialwork.utoronto.ca
X-WR-CALDESC:Events for Factor-Inwentash Faculty of Social Work
REFRESH-INTERVAL;VALUE=DURATION:PT1H
X-Robots-Tag:noindex
X-PUBLISHED-TTL:PT1H
BEGIN:VTIMEZONE
TZID:America/Toronto
BEGIN:DAYLIGHT
TZOFFSETFROM:-0500
TZOFFSETTO:-0400
TZNAME:EDT
DTSTART:20140309T070000
END:DAYLIGHT
BEGIN:STANDARD
TZOFFSETFROM:-0400
TZOFFSETTO:-0500
TZNAME:EST
DTSTART:20141102T060000
END:STANDARD
BEGIN:DAYLIGHT
TZOFFSETFROM:-0500
TZOFFSETTO:-0400
TZNAME:EDT
DTSTART:20150308T070000
END:DAYLIGHT
BEGIN:STANDARD
TZOFFSETFROM:-0400
TZOFFSETTO:-0500
TZNAME:EST
DTSTART:20151101T060000
END:STANDARD
BEGIN:DAYLIGHT
TZOFFSETFROM:-0500
TZOFFSETTO:-0400
TZNAME:EDT
DTSTART:20160313T070000
END:DAYLIGHT
BEGIN:STANDARD
TZOFFSETFROM:-0400
TZOFFSETTO:-0500
TZNAME:EST
DTSTART:20161106T060000
END:STANDARD
END:VTIMEZONE
BEGIN:VEVENT
DTSTART;TZID=America/Toronto:20150123T090000
DTEND;TZID=America/Toronto:20150123T110000
DTSTAMP:20260421T080214
CREATED:20140515T192219Z
LAST-MODIFIED:20140515T192219Z
UID:5004-1422003600-1422010800@socialwork.utoronto.ca
SUMMARY:Workshop for All Field Instructors -- Conflict and its Resolution
DESCRIPTION:Registration required. \nThis workshop is  not offered via webinar.
URL:https://socialwork.utoronto.ca/event/year-2advanced-standing-field-instructors-workshop-conflict-and-its-resolution/
LOCATION:Claude Bissell Building\, 140 St. George Street\, Room 205\, Toronto\, Ontario\, Canada
CATEGORIES:Practicum
END:VEVENT
BEGIN:VEVENT
DTSTART;TZID=America/Toronto:20150123T110000
DTEND;TZID=America/Toronto:20150123T130000
DTSTAMP:20260421T080214
CREATED:20140623T163050Z
LAST-MODIFIED:20140623T163050Z
UID:7002-1422010800-1422018000@socialwork.utoronto.ca
SUMMARY:Year 1 Field Instructors Workshop -- Reviewing Beginnings and Learning Contracts
DESCRIPTION:Registration required. \nRegister to attend in person. \nOption to participate via Webinar. \n  \n 
URL:https://socialwork.utoronto.ca/event/year-1-field-instructors-workshop-reviewing-beginnings-and-learning-contracts/
LOCATION:Claude Bissell Building\, 140 St. George Street\, Room 205\, Toronto\, Ontario\, Canada
CATEGORIES:Practicum
END:VEVENT
END:VCALENDAR