BEGIN:VCALENDAR
VERSION:2.0
PRODID:-//Factor-Inwentash Faculty of Social Work - ECPv6.15.20//NONSGML v1.0//EN
CALSCALE:GREGORIAN
METHOD:PUBLISH
X-ORIGINAL-URL:https://socialwork.utoronto.ca
X-WR-CALDESC:Events for Factor-Inwentash Faculty of Social Work
REFRESH-INTERVAL;VALUE=DURATION:PT1H
X-Robots-Tag:noindex
X-PUBLISHED-TTL:PT1H
BEGIN:VTIMEZONE
TZID:America/Toronto
BEGIN:DAYLIGHT
TZOFFSETFROM:-0500
TZOFFSETTO:-0400
TZNAME:EDT
DTSTART:20130310T070000
END:DAYLIGHT
BEGIN:STANDARD
TZOFFSETFROM:-0400
TZOFFSETTO:-0500
TZNAME:EST
DTSTART:20131103T060000
END:STANDARD
BEGIN:DAYLIGHT
TZOFFSETFROM:-0500
TZOFFSETTO:-0400
TZNAME:EDT
DTSTART:20140309T070000
END:DAYLIGHT
BEGIN:STANDARD
TZOFFSETFROM:-0400
TZOFFSETTO:-0500
TZNAME:EST
DTSTART:20141102T060000
END:STANDARD
BEGIN:DAYLIGHT
TZOFFSETFROM:-0500
TZOFFSETTO:-0400
TZNAME:EDT
DTSTART:20150308T070000
END:DAYLIGHT
BEGIN:STANDARD
TZOFFSETFROM:-0400
TZOFFSETTO:-0500
TZNAME:EST
DTSTART:20151101T060000
END:STANDARD
END:VTIMEZONE
BEGIN:VEVENT
DTSTART;TZID=America/Toronto:20140919T120000
DTEND;TZID=America/Toronto:20140919T133000
DTSTAMP:20260421T183302
CREATED:20140714T165713Z
LAST-MODIFIED:20140714T165713Z
UID:7647-1411128000-1411133400@socialwork.utoronto.ca
SUMMARY:M.S.W. Information Session - September 2014
DESCRIPTION:Designed for prospective applicants to learn more about the M.S.W. Program; admission requirements and application process. \nSeptember 19\, 2014 – 12:00 to 1:30 p.m. \nFactor-Inwentash Faculty of Social Work \nUniversity of Toronto\n246 Bloor Street West\nLocation: Room 548 (5th Floor) \nRegister for a session at: \nhttp://mswinfosession.eventbrite.ca \nIf you require accomodation or have inquiries please contact Angela Umbrello at admissions.fsw@utoronto.ca
URL:https://socialwork.utoronto.ca/event/m-s-w-information-session-september-2014/
LOCATION:FIFSW\, 246 Bloor Street W.\, Toronto\, ON\, M5S 1V4\, Canada
CATEGORIES:Admissions
END:VEVENT
END:VCALENDAR