BEGIN:VCALENDAR
VERSION:2.0
PRODID:-//Factor-Inwentash Faculty of Social Work - ECPv6.15.20//NONSGML v1.0//EN
CALSCALE:GREGORIAN
METHOD:PUBLISH
X-ORIGINAL-URL:https://socialwork.utoronto.ca
X-WR-CALDESC:Events for Factor-Inwentash Faculty of Social Work
REFRESH-INTERVAL;VALUE=DURATION:PT1H
X-Robots-Tag:noindex
X-PUBLISHED-TTL:PT1H
BEGIN:VTIMEZONE
TZID:America/Toronto
BEGIN:DAYLIGHT
TZOFFSETFROM:-0500
TZOFFSETTO:-0400
TZNAME:EDT
DTSTART:20130310T070000
END:DAYLIGHT
BEGIN:STANDARD
TZOFFSETFROM:-0400
TZOFFSETTO:-0500
TZNAME:EST
DTSTART:20131103T060000
END:STANDARD
BEGIN:DAYLIGHT
TZOFFSETFROM:-0500
TZOFFSETTO:-0400
TZNAME:EDT
DTSTART:20140309T070000
END:DAYLIGHT
BEGIN:STANDARD
TZOFFSETFROM:-0400
TZOFFSETTO:-0500
TZNAME:EST
DTSTART:20141102T060000
END:STANDARD
BEGIN:DAYLIGHT
TZOFFSETFROM:-0500
TZOFFSETTO:-0400
TZNAME:EDT
DTSTART:20150308T070000
END:DAYLIGHT
BEGIN:STANDARD
TZOFFSETFROM:-0400
TZOFFSETTO:-0500
TZNAME:EST
DTSTART:20151101T060000
END:STANDARD
END:VTIMEZONE
BEGIN:VEVENT
DTSTART;TZID=America/Toronto:20140915T121500
DTEND;TZID=America/Toronto:20140915T131500
DTSTAMP:20260422T005620
CREATED:20140614T185628Z
LAST-MODIFIED:20140614T185628Z
UID:6638-1410783300-1410786900@socialwork.utoronto.ca
SUMMARY:Specialization Luncheons for MSW Year 2 and Advanced Standing students
DESCRIPTION:Children and Their Families Specialization Luncheon – with Ramona Alaggia \nMonday\, September 15th\n12:15 to 1:15pm\nFIFSW\, 246 Bloor Street West\nRoom 548\n\n \n\nSocial Work in Gerontology Specialization Luncheon – with Lynn McDonald and Esme Fuller-Thomson\nMonday\, September 15th \n12:15 to 1:15pm\nFIFSW\, 246 Bloor Street West\nRoom 346\n\n\n \n 
URL:https://socialwork.utoronto.ca/event/specialization-luncheons-for-msw-year-2-and-advanced-standing-students/
LOCATION:FIFSW\, 246 Bloor Street W.\, Toronto\, ON\, M5S 1V4\, Canada
END:VEVENT
BEGIN:VEVENT
DTSTART;TZID=America/Toronto:20140915T121500
DTEND;TZID=America/Toronto:20140915T131500
DTSTAMP:20260422T005620
CREATED:20140818T133442Z
LAST-MODIFIED:20140818T133442Z
UID:8028-1410783300-1410786900@socialwork.utoronto.ca
SUMMARY:Library Information Session 1 - MSW Students
DESCRIPTION:Library Information Session 1\nFor MSW Students\nMonday\, September 15th\n12:15 to 1:15pm\nOISE\, 252 Bloor Street West\n3rd floor\, Computer Labs 1 & 2\nSpace is limited\, so please sign up for this workshop by clicking on the following link:    https://www.eventbrite.ca/e/library-information-session-1-year-1-msw-students-tickets-12887529949
URL:https://socialwork.utoronto.ca/event/library-information-session-1-year-1-msw-students/
LOCATION:OISE\, 252 Bloor Street West\, Room 2-211\, Toronto\, Ontario\, M5S 1V4\, Canada
END:VEVENT
END:VCALENDAR