BEGIN:VCALENDAR
VERSION:2.0
PRODID:-//Factor-Inwentash Faculty of Social Work - ECPv6.15.20//NONSGML v1.0//EN
CALSCALE:GREGORIAN
METHOD:PUBLISH
X-ORIGINAL-URL:https://socialwork.utoronto.ca
X-WR-CALDESC:Events for Factor-Inwentash Faculty of Social Work
REFRESH-INTERVAL;VALUE=DURATION:PT1H
X-Robots-Tag:noindex
X-PUBLISHED-TTL:PT1H
BEGIN:VTIMEZONE
TZID:America/Toronto
BEGIN:DAYLIGHT
TZOFFSETFROM:-0500
TZOFFSETTO:-0400
TZNAME:EDT
DTSTART:20130310T070000
END:DAYLIGHT
BEGIN:STANDARD
TZOFFSETFROM:-0400
TZOFFSETTO:-0500
TZNAME:EST
DTSTART:20131103T060000
END:STANDARD
BEGIN:DAYLIGHT
TZOFFSETFROM:-0500
TZOFFSETTO:-0400
TZNAME:EDT
DTSTART:20140309T070000
END:DAYLIGHT
BEGIN:STANDARD
TZOFFSETFROM:-0400
TZOFFSETTO:-0500
TZNAME:EST
DTSTART:20141102T060000
END:STANDARD
BEGIN:DAYLIGHT
TZOFFSETFROM:-0500
TZOFFSETTO:-0400
TZNAME:EDT
DTSTART:20150308T070000
END:DAYLIGHT
BEGIN:STANDARD
TZOFFSETFROM:-0400
TZOFFSETTO:-0500
TZNAME:EST
DTSTART:20151101T060000
END:STANDARD
END:VTIMEZONE
BEGIN:VEVENT
DTSTART;TZID=America/Toronto:20140908T120000
DTEND;TZID=America/Toronto:20140911T133000
DTSTAMP:20260421T234233
CREATED:20140622T180526Z
LAST-MODIFIED:20140622T180526Z
UID:6982-1410177600-1410442200@socialwork.utoronto.ca
SUMMARY:Incoming PhD Student Meet and Greet Luncheons
DESCRIPTION:Come and join our incoming PhD students for lunch.  Share your experiences at the Faculty and learn about each others research interests and projects. \nLuncheons will be served at noon. \nMeet and Greet Luncheons\nWHEN: Monday\, September 8th\, Tuesday\, September 9th\, Wednesday\, September 10th and Thursday\, September 11th\nWHERE:  246 Bloor Street West\, 3rd Floor Student Lounge\n 
URL:https://socialwork.utoronto.ca/event/incoming-phd-student-meet-and-gree-luncheons/
LOCATION:FIFSW\, 246 Bloor Street W.\, Toronto\, ON\, M5S 1V4\, Canada
END:VEVENT
BEGIN:VEVENT
DTSTART;TZID=America/Toronto:20140910T090000
DTEND;TZID=America/Toronto:20140910T120000
DTSTAMP:20260421T234233
CREATED:20140614T182412Z
LAST-MODIFIED:20140614T182412Z
UID:6632-1410339600-1410350400@socialwork.utoronto.ca
SUMMARY:Session 1: Diversity and Equity Workshop for Year 1 MSW students (2-Year Program)
DESCRIPTION:Presented by Janet Mawhinney and Terry Gardiner\nDiversity and Equity in Social Work: Engaging the Learning Edge \nIssues of diversity\, equity and inclusion are core to social work practice and require capacities in terms of awareness\, knowledge and skills applied in a range of practice settings.  This workshop identifies some core competencies in each of these areas and a foundational analysis of the impact of systemic and micro level power relations in this work. \nThe complex and dynamic nature of diversity\, health equity\, and human rights issues requires practitioners to engage in ongoing learning and unlearning regarding specific issues of equity/diversity and an ability to navigate across a spectrum of power/privilege/marginalization issues\, while maintaining and producing a positive learning edge and effective professional practice. \nThis dynamic and interactive workshop will explore some of the key issues and strategies to address diversity and equity in SW practice and education. \nSession 1 – Diversity and Equity Workshop – Year 1 MSW students (2-Year Program)\n \nWednesday\, September 10th\n9:00am to 12:00pm\nFIFSW\, 246 Bloor Street West\nRoom 422\n \nClick on the following link to register for this session:  www.eventbrite.ca/diversity-and-equity-workshop-for-year-1-msw-students-2-year-program-tickets- September 10\, 2014-9amto12pm\n \n \n 
URL:https://socialwork.utoronto.ca/event/session-1-diversity-and-equity-workshop-for-incoming-year-1-msw-students-2-year-program/
LOCATION:FIFSW\, 246 Bloor Street W.\, Toronto\, ON\, M5S 1V4\, Canada
END:VEVENT
BEGIN:VEVENT
DTSTART;TZID=America/Toronto:20140910T130000
DTEND;TZID=America/Toronto:20140910T160000
DTSTAMP:20260421T234233
CREATED:20140614T182848Z
LAST-MODIFIED:20140614T182848Z
UID:6634-1410354000-1410364800@socialwork.utoronto.ca
SUMMARY:Session 2: Diversity and Equity Workshop for Year 1 MSW students (2-Year Program)
DESCRIPTION:Presented by Rani Srivastava and Janet Mawhinney\nDiversity and Equity in Social Work: Engaging the Learning Edge \nIssues of diversity\, equity and inclusion are core to social work practice and require capacities in terms of awareness\, knowledge and skills applied in a range of practice settings.  This workshop identifies some core competencies in each of these areas and a foundational analysis of the impact of systemic and micro level power relations in this work. \nThe complex and dynamic nature of diversity\, health equity\, and human rights issues requires practitioners to engage in ongoing learning and unlearning regarding specific issues of equity/diversity and an ability to navigate across a spectrum of power/privilege/marginalization issues\, while maintaining and producing a positive learning edge and effective professional practice. \nThis dynamic and interactive workshop will explore some of the key issues and strategies to address diversity and equity in SW practice and education. \nSession 2 – Diversity and Equity Workshop – Year 1 MSW students (2-Year Program)\n \nWednesday\, September 10th\n1:00pm to 4:00pm\nFIFSW\, 246 Bloor Street West\nRoom 422\n \nClick on the following link to register for this session:  www.eventbrite.ca/diversity-and-equity-workshop-for-year-1-msw-students-2-year-program-tickets- September 10\, 2014-1pm-4pm\n \n 
URL:https://socialwork.utoronto.ca/event/session-2-diversity-and-equity-workshop-for-incoming-year-1-msw-students-2-year-program-2/
LOCATION:FIFSW\, 246 Bloor Street W.\, Toronto\, ON\, M5S 1V4\, Canada
END:VEVENT
END:VCALENDAR