BEGIN:VCALENDAR
VERSION:2.0
PRODID:-//Factor-Inwentash Faculty of Social Work - ECPv6.15.20//NONSGML v1.0//EN
CALSCALE:GREGORIAN
METHOD:PUBLISH
X-ORIGINAL-URL:https://socialwork.utoronto.ca
X-WR-CALDESC:Events for Factor-Inwentash Faculty of Social Work
REFRESH-INTERVAL;VALUE=DURATION:PT1H
X-Robots-Tag:noindex
X-PUBLISHED-TTL:PT1H
BEGIN:VTIMEZONE
TZID:America/Toronto
BEGIN:DAYLIGHT
TZOFFSETFROM:-0500
TZOFFSETTO:-0400
TZNAME:EDT
DTSTART:20130310T070000
END:DAYLIGHT
BEGIN:STANDARD
TZOFFSETFROM:-0400
TZOFFSETTO:-0500
TZNAME:EST
DTSTART:20131103T060000
END:STANDARD
BEGIN:DAYLIGHT
TZOFFSETFROM:-0500
TZOFFSETTO:-0400
TZNAME:EDT
DTSTART:20140309T070000
END:DAYLIGHT
BEGIN:STANDARD
TZOFFSETFROM:-0400
TZOFFSETTO:-0500
TZNAME:EST
DTSTART:20141102T060000
END:STANDARD
BEGIN:DAYLIGHT
TZOFFSETFROM:-0500
TZOFFSETTO:-0400
TZNAME:EDT
DTSTART:20150308T070000
END:DAYLIGHT
BEGIN:STANDARD
TZOFFSETFROM:-0400
TZOFFSETTO:-0500
TZNAME:EST
DTSTART:20151101T060000
END:STANDARD
END:VTIMEZONE
BEGIN:VEVENT
DTSTART;TZID=America/Toronto:20140224T121000
DTEND;TZID=America/Toronto:20140224T133000
DTSTAMP:20260421T202940
CREATED:20140512T231453Z
LAST-MODIFIED:20140512T231453Z
UID:4916-1393243800-1393248600@socialwork.utoronto.ca
SUMMARY:Interview Skills Workshop
DESCRIPTION:Interview Skills Workshop\n  \nSponsored by the FIFSW Alumni Mentoring Program and presented by the U of T Career Centre. \nMonday\, February 24\, 2014\n12:10-1:30pm\nFIFSW\, Room 548 \n 
URL:https://socialwork.utoronto.ca/event/interview-skills-workshop/
LOCATION:FIFSW\, 246 Bloor Street W.\, Toronto\, ON\, M5S 1V4\, Canada
CATEGORIES:Alumni
END:VEVENT
BEGIN:VEVENT
DTSTART;TZID=America/Toronto:20140224T121500
DTEND;TZID=America/Toronto:20140224T132000
DTSTAMP:20260421T202940
CREATED:20140512T231226Z
LAST-MODIFIED:20140512T231226Z
UID:4915-1393244100-1393248000@socialwork.utoronto.ca
SUMMARY:Child & Family Information Session
DESCRIPTION:Specialization Information Session\n  \nMonday\, Feb. 24th\nFIFSW\, Room 720 \nChildren and their Families –  12:15-12:45pm \nGerontology in Social Work – 12:50-1:20pm
URL:https://socialwork.utoronto.ca/event/specialization-information-session/
LOCATION:FIFSW\, 246 Bloor Street W.\, Toronto\, ON\, M5S 1V4\, Canada
CATEGORIES:Admissions
END:VEVENT
END:VCALENDAR