BEGIN:VCALENDAR
VERSION:2.0
PRODID:-//Factor-Inwentash Faculty of Social Work - ECPv6.15.20//NONSGML v1.0//EN
CALSCALE:GREGORIAN
METHOD:PUBLISH
X-ORIGINAL-URL:https://socialwork.utoronto.ca
X-WR-CALDESC:Events for Factor-Inwentash Faculty of Social Work
REFRESH-INTERVAL;VALUE=DURATION:PT1H
X-Robots-Tag:noindex
X-PUBLISHED-TTL:PT1H
BEGIN:VTIMEZONE
TZID:America/Toronto
BEGIN:DAYLIGHT
TZOFFSETFROM:-0500
TZOFFSETTO:-0400
TZNAME:EDT
DTSTART:20120311T070000
END:DAYLIGHT
BEGIN:STANDARD
TZOFFSETFROM:-0400
TZOFFSETTO:-0500
TZNAME:EST
DTSTART:20121104T060000
END:STANDARD
BEGIN:DAYLIGHT
TZOFFSETFROM:-0500
TZOFFSETTO:-0400
TZNAME:EDT
DTSTART:20130310T070000
END:DAYLIGHT
BEGIN:STANDARD
TZOFFSETFROM:-0400
TZOFFSETTO:-0500
TZNAME:EST
DTSTART:20131103T060000
END:STANDARD
BEGIN:DAYLIGHT
TZOFFSETFROM:-0500
TZOFFSETTO:-0400
TZNAME:EDT
DTSTART:20140309T070000
END:DAYLIGHT
BEGIN:STANDARD
TZOFFSETFROM:-0400
TZOFFSETTO:-0500
TZNAME:EST
DTSTART:20141102T060000
END:STANDARD
END:VTIMEZONE
BEGIN:VEVENT
DTSTART;TZID=America/Toronto:20130319T120000
DTEND;TZID=America/Toronto:20130319T133000
DTSTAMP:20260422T002557
CREATED:20140522T000127Z
LAST-MODIFIED:20140522T000127Z
UID:5174-1363694400-1363699800@socialwork.utoronto.ca
SUMMARY:Donor Appreciation Event 2013
DESCRIPTION:Appreciation Event\nTuesday\, March 19\, 2013\n12:00-1:30pm \nFIFSW\, Student Lounge\, Room 320 \nThe FIFSW would like to take this opportunity to thank all of our friends who have initiated and donated to student awards and/or who have supported the Faculty with a planned gift
URL:https://socialwork.utoronto.ca/event/donor-appreciation-event-2013/
LOCATION:FIFSW\, 246 Bloor Street W.\, Toronto\, ON\, M5S 1V4\, Canada
CATEGORIES:Alumni
END:VEVENT
BEGIN:VEVENT
DTSTART;TZID=America/Toronto:20130319T173000
DTEND;TZID=America/Toronto:20130319T190000
DTSTAMP:20260422T002557
CREATED:20140522T000309Z
LAST-MODIFIED:20140522T000309Z
UID:5175-1363714200-1363719600@socialwork.utoronto.ca
SUMMARY:Hatsumi Film Screening
DESCRIPTION:Hatsumi: One Grandmother’s Journey Through the Japanese Canadian Internment\nTuesday\, March 19th\, 2013\n5:30 – 7:00pm\nFIFSW\, 246 Bloor Street West\nRoom 320 \n“A beautifully crafted documentary that never once loses its innate humanity whilst portraying\nthe rampant inhumanity that surrounded these hapless citizens of Canada. Fierce\, loving\, strong\, poetic.” – Deepa Mehta\, Academy Award® nominated director of Midnight‘s Children \n  \nA special screening to commemorate International Day for the Elimination of Racial Discrimination including discussion with the film’s director Chris Hope after the film. \nWhen Chris began the film\, many within the Japanese Canadian community continued to keep their personal experiences during the internment years to themselves. The film project ultimately documented two stories; Nancy’s journey through the internment\, and Chris’ own struggle to assist her to get over her reluctance to speak about it. By taking her to the actual locations of her internment\, with cameras rolling\, Chris witnessed Nancy radiating the emotion that had been lacking in the other real-life internment stories Chris had seen. \nLight refreshments will be available.\nNo RSVP required. Please share news of this event with friends and colleagues.
URL:https://socialwork.utoronto.ca/event/hatsumi-film-screening/
LOCATION:FIFSW\, 246 Bloor Street W.\, Toronto\, ON\, M5S 1V4\, Canada
END:VEVENT
END:VCALENDAR